BEGIN:VCALENDAR
VERSION:2.0
PRODID:-//ChamberMaster//Event Calendar 2.0//EN
METHOD:PUBLISH
X-PUBLISHED-TTL:P3D
REFRESH-INTERVAL:P3D
CALSCALE:GREGORIAN
BEGIN:VEVENT
DTSTART:20200729T210000Z
DTEND:20200730T000000Z
X-MICROSOFT-CDO-ALLDAYEVENT:FALSE
SUMMARY:Ruby's Pantry Ice Cream Drop
DESCRIPTION:Free Halo Top Ice Cream Bars to everyone!!! Wednesday\, July 29th Pick up as many cases as you would like and take some for your neighbors and friends too!
X-ALT-DESC;FMTTYPE=text/html:Free Halo Top Ice Cream Bars to everyone!!! Wednesday\, July 29th Pick up as many cases as you would like and take some for your neighbors and friends too!
LOCATION:Church of Nazarene 1319 N Cleveland Ave Fergus Falls
UID:e.314.57777
SEQUENCE:3
DTSTAMP:20260422T081005Z
URL:https://business.fergusfalls.com/events/details/ruby-s-pantry-ice-cream-drop-57777
END:VEVENT

END:VCALENDAR
