BEGIN:VCALENDAR
VERSION:2.0
PRODID:-//ChamberMaster//Event Calendar 2.0//EN
METHOD:PUBLISH
X-PUBLISHED-TTL:P3D
REFRESH-INTERVAL:P3D
CALSCALE:GREGORIAN
BEGIN:VEVENT
DTSTART:20190405T133000Z
DTEND:20190405T190000Z
X-MICROSOFT-CDO-ALLDAYEVENT:FALSE
SUMMARY:Rummage & Bake Sale
DESCRIPTION:Rummage & Bake Sale at Zion Lutheran Church\n\nMuffins & coffee served.\n\nQuilts for sale.
X-ALT-DESC;FMTTYPE=text/html:Rummage &amp\; Bake Sale at Zion Lutheran Church<br />\nMuffins &amp\; coffee served.<br />\nQuilts for sale.
LOCATION:Zion Lutheran Church 202 E. Summit Ave. Fergus Falls\, MN
UID:e.314.53055
SEQUENCE:3
DTSTAMP:20260423T062727Z
URL:https://business.fergusfalls.com/events/details/rummage-bake-sale-53055
END:VEVENT

END:VCALENDAR
