BEGIN:VCALENDAR
VERSION:2.0
PRODID:-//ChamberMaster//Event Calendar 2.0//EN
METHOD:PUBLISH
X-PUBLISHED-TTL:P3D
REFRESH-INTERVAL:P3D
CALSCALE:GREGORIAN
BEGIN:VEVENT
DTSTART:20180401T013000Z
DTEND:20180401T033000Z
X-MICROSOFT-CDO-ALLDAYEVENT:FALSE
SUMMARY:Run Like Hell: America's Premier Pink Floyd Show
DESCRIPTION:Saturday\, March 31 7:30pm\n\n\n\nRun Like Hell celebrates the sights and sounds of one of the world's most successful and influential bands of all time. Based in St. Paul\, MN\, this band of six accomplished musicians and vocalists meticulously recreates the unique sound and spectacular visual show of Pink Floyd. The attention to detail and energetic performance recreate the excitement of the original Pink Floyd experience in a way that even the most serious fan can appreciate. The love for Pink Floyd's music spans the generations and is always a huge hit with any crowd. Relive all the hits from classic albums such as Dark Side of the Moon\, The Wall\, Animals\, Wish You Were Here\, Meddle\, and others.\n\n\n\nTickets $30
X-ALT-DESC;FMTTYPE=text/html:<span class="_4n-j _3cht fsl" data-testid="event-permalink-details">Saturday\, March 31 7:30pm<br />\n<br />\nRun Like Hell celebrates the sights and sounds of one of the world&rsquo\;s most successful and influential bands of all time. Based in St. Paul\, MN\, this band of six accomplished musicians and vocalists meticulously recreates the unique sound and spectacular visual show of Pink Floyd. The attention to detail and energetic performance recreate the excitement of the original Pink Floyd experience in a way that even the most serious fan can appreciate. The love for Pink Floyd&rsquo\;s music spans the generations and is always a huge hit with any crowd. Relive all the hits from classic albums such as Dark Side of the Moon\, The Wall\, Animals\, Wish You Were Here\, Meddle\, and others.<br />\n<br />\nTickets $30</span>
LOCATION:AC4TA 124 W Lincoln Ave
UID:e.314.44970
SEQUENCE:3
DTSTAMP:20260424T013343Z
URL:https://business.fergusfalls.com/events/details/run-like-hell-america-s-premier-pink-floyd-show-44970
END:VEVENT

END:VCALENDAR
