BEGIN:VCALENDAR
VERSION:2.0
PRODID:-//ChamberMaster//Event Calendar 2.0//EN
METHOD:PUBLISH
X-PUBLISHED-TTL:P3D
REFRESH-INTERVAL:P3D
CALSCALE:GREGORIAN
BEGIN:VEVENT
DTSTART:20160611T120000Z
DTEND:20160611T200000Z
X-MICROSOFT-CDO-ALLDAYEVENT:FALSE
SUMMARY:Running Wild Trail Run
DESCRIPTION:Running Wild Trail Run is held at Maplewood State Park located seven miles east of Pelican Rapids\, Minnesota. Signs will direct you to the race as you enter the park on race day. This race is one of Health Resources Center's largest fundraising events of the year! This fun\, family-oriented event is also part of the Fergus Falls Area Race Series.
X-ALT-DESC;FMTTYPE=text/html:Running Wild Trail Run is held at Maplewood State Park located seven miles east of Pelican Rapids\, Minnesota. Signs will direct you to the race as you enter the park on race day. This race is one of Health Resources Center&#39\;s largest fundraising events of the year! This fun\, family-oriented event is also part of the Fergus Falls Area Race Series.
LOCATION:Maplewood State Park\, 7 miles east of Pelican Rapids\, Minnesota
UID:e.314.32767
SEQUENCE:3
DTSTAMP:20260425T144325Z
URL:https://business.fergusfalls.com/events/details/running-wild-trail-run-06-11-2016-32767
END:VEVENT

END:VCALENDAR
