BEGIN:VCALENDAR
VERSION:2.0
PRODID:-//ChamberMaster//Event Calendar 2.0//EN
METHOD:PUBLISH
X-PUBLISHED-TTL:P3D
REFRESH-INTERVAL:P3D
CALSCALE:GREGORIAN
BEGIN:VEVENT
DTSTART:20200120T140000Z
DTEND:20200120T223000Z
X-MICROSOFT-CDO-ALLDAYEVENT:FALSE
SUMMARY:Rural Racial Equity Summit
DESCRIPTION:Rural Racial Equity Summit -- "Building Our Beloved Community"\n\nEquity-minded people are invited to gather\, connect\, explore and practice how to do the work of equity and inclusion to promote justice and enable all community members to flourish and thrive.\n\nThe summit is open to the public including educators\, social service professionals\, local government officials\, students\, members of the religious/faith community\, business leaders\, the arts community\, law enforcement and health care professionals.\n\n\n\nKeynote Speakers:\n\nKeith Ellison\, Attorney General\, State of Minnesota\n\nRuth Buffalo\, State Representative\, North Dakota\n\nKasim Adbur Razzaq\, Social Architect\, Razzaq Consulting\n\n\n\nclick here for Rural Racial Equity Summit poster
X-ALT-DESC;FMTTYPE=text/html:<span style="font-size:14px\;"><strong>Rural Racial Equity Summit -- &quot\;Building Our Beloved Community&quot\;</strong></span><br />\nEquity-minded people are invited to gather\, connect\, explore and practice how to do the work of equity and inclusion to promote justice and enable all community members to flourish and thrive.<br />\nThe summit is open to the public including educators\, social service professionals\, local government officials\, students\, members of the religious/faith community\, business leaders\, the arts community\, law enforcement and health care professionals.<br />\n<br />\nKeynote Speakers:<br />\nKeith Ellison\, Attorney General\, State of Minnesota<br />\nRuth Buffalo\, State Representative\, North Dakota<br />\nKasim Adbur Razzaq\, Social Architect\, Razzaq Consulting<br />\n<br />\n<a href="https://chambermaster.blob.core.windows.net/userfiles/UserFiles/chambers/314/File/RuralRacialEquitySummitPoster003.pdf">click here for Rural Racial Equity Summit poster</a>
LOCATION:8:00am - 4:30pm -- Summit Minnesota State Community & Technical College 1414 College Way Fergus Falls\, MN 5:00pm -- Networking\, Dinner and Faith in Equity Panel Bigwood Event Center 925 Western Ave. Fergus Falls\, MN
UID:e.314.56007
SEQUENCE:3
DTSTAMP:20260422T171904Z
URL:https://business.fergusfalls.com/events/details/rural-racial-equity-summit-56007
END:VEVENT

END:VCALENDAR
