BEGIN:VCALENDAR
VERSION:2.0
PRODID:-//ChamberMaster//Event Calendar 2.0//EN
METHOD:PUBLISH
X-PUBLISHED-TTL:P3D
REFRESH-INTERVAL:P3D
CALSCALE:GREGORIAN
BEGIN:VEVENT
DTSTART:20180217T190000Z
DTEND:20180217T220000Z
X-MICROSOFT-CDO-ALLDAYEVENT:FALSE
SUMMARY:Rustic art quote with artbar39
DESCRIPTION:Rustic art quote with artbar39\n\nMake your own rustic art quote. Cost is $50 includes two drinks and your own personalized double sided twelve by twelve sign. Space is limited so sign up early.
X-ALT-DESC;FMTTYPE=text/html:<span style="font-size: 20px\;"><strong>Rustic art quote with artbar39</strong></span><br />\n<span class="_4n-j _3cht fsl" data-testid="event-permalink-details">Make your own rustic art quote. Cost is $50 includes two drinks and your own personalized double sided twelve by twelve sign. Space is limited so sign up early.</span>
LOCATION:Stalker Lake Golf Course Bar and Grill 15786 Golf Course Rd\, Dalton\, Minnesota 56324
UID:e.314.43877
SEQUENCE:3
DTSTAMP:20260424T025251Z
URL:https://business.fergusfalls.com/events/details/rustic-art-quote-with-artbar39-43877
END:VEVENT

END:VCALENDAR
