BEGIN:VCALENDAR
VERSION:2.0
PRODID:-//ChamberMaster//Event Calendar 2.0//EN
METHOD:PUBLISH
X-PUBLISHED-TTL:P3D
REFRESH-INTERVAL:P3D
CALSCALE:GREGORIAN
BEGIN:VEVENT
DTSTART:20151106T003000Z
DTEND:20151106T023000Z
X-MICROSOFT-CDO-ALLDAYEVENT:FALSE
SUMMARY:Ryan Hanson Homes Client & Community Appreciation Night
DESCRIPTION:Ryan Hanson Homes Client & Community Appreciation Night!\n\nRyan is a Realtor with Keller Williams Realty Professionals\n\n\n\nCome and see a newly released Disney Pixar movie "Inside Out\," eat some snacks and have a load of fun with all your friends and family for FREE with the Ryan Hanson Homes team! It is our way of saying THANKS to all of our clients and this amazing community. (Please consider your "ticket" to the event to be canned goods &/or a monetary donation to the food shelf. We will be collecting them there and hope to make a huge impact for our local food shelf.) Doors open at 6:30\; movie starts at 7:00! We hope to see you all there!
X-ALT-DESC;FMTTYPE=text/html:<div class="_5v58" data-gt="{&quot\;rank&quot\;:&quot\;5&quot\;}">\n<div class="_5v5a"><strong><a href="https://www.facebook.com/events/770817986381149/?ref=1&amp\;action_history=%5B%7B%22surface%22%3A%22permalink%22%2C%22mechanism%22%3A%22surface%22%2C%22extra_data%22%3A%5B%5D%7D%5D"><font color="#0066cc">Ryan Hanson Homes Client &amp\; Community Appreciation Night!</font></a><br />\nRyan is a Realtor with <em>Keller Williams Realty<em> </em>Professionals</em></strong><br />\n<br />\n<span class="fsl">Come and see a newly released Disney Pixar movie &quot\;Inside Out\,&quot\; eat some snacks and have a load of fun with all your friends and family for FREE with the Ryan Hanson Homes team! It is our way of saying THANKS to all of our clients and this amazing community. (Please consider your &quot\;ticket&quot\; to the event to be canned goods &amp\;/or a monetary donation to the food shelf. We will be collecting them there and hope to make a huge impact for our local food shelf.) Doors open at 6:30\; movie starts at 7:00! We hope to see you all there!</span><br />\n&nbsp\;</div>\n</div>\n
LOCATION:A Center for the Arts 124 W Lincoln Ave Fergus Falls
UID:e.314.25957
SEQUENCE:3
DTSTAMP:20260426T011250Z
URL:https://business.fergusfalls.com/events/details/ryan-hanson-homes-client-community-appreciation-night-11-05-2015-25957
END:VEVENT

END:VCALENDAR
