BEGIN:VCALENDAR
VERSION:2.0
PRODID:-//ChamberMaster//Event Calendar 2.0//EN
METHOD:PUBLISH
X-PUBLISHED-TTL:P3D
REFRESH-INTERVAL:P3D
CALSCALE:GREGORIAN
BEGIN:VEVENT
DTSTART:20180816T223000Z
DTEND:20180816T234500Z
X-MICROSOFT-CDO-ALLDAYEVENT:FALSE
SUMMARY:Safety Education Workshop
DESCRIPTION:In order to continue to create a safer community\, 715 Hot Heads has partnered with the AmericInn Fergus Falls\, Green Plains Ottertail\, Fergus Falls\, Someplace Safe\, and the Fergus Falls Police Department to bring an enhanced Safety Education Workshop.\n\n\n\nThis event will equip individuals with the tools\, training\, and empowerment to improve our personal safety and the safety of others around us.\n\n\n\nGuest Speakers / Demonstrators\n\n\n\nKevin Sonstebo - Fergus Falls Police Department - Self Defense Workshop\n\n\n\nWade Erickson - Department of Corrections - Presentation on Sexual Offenders\n\n\n\nJessie\, Crime Victim Advocate - Someplace Safe - Presentation on Sexual Violence\, Human Trafficking\, Stalking\, and Domestic Assault\n\n\n\nBy attending this event\, we are ensuring both our own safety and the safety of members of this community. It is our obligation as residents to ensure safety and implementing the skills from this workshop to the public.\n\n\n\nThis event is completely free to the public. Refreshments will be provided by our generous sponsors (715 Hot Heads\, AmericInn Fergus Falls\, Green Plains Ottertail\, Fergus Falls)\n\n\n\nThe workshop will be held at the Fergus Falls AmericInn at 5:30 PM Thursday\, August 16th in the Community Room.\n\n\n\nEveryone in attendance will receive a free self-defense tool\, and by responding to this invitation it will allow the sponsors to have the essential means necessary to provide the most effective workshop possible.
X-ALT-DESC;FMTTYPE=text/html:<span>In order to continue to create a safer community\, <a href="https://www.facebook.com/715HotHeads/" target="_blank"><font color="#0066cc">715 Hot Heads</font></a> has partnered with the <a href="https://www.facebook.com/americinnfergusfalls/" target="_blank"><font color="#0066cc">AmericInn Fergus Falls</font></a>\, <a href="https://www.facebook.com/pages/Green-Plains-Ottertail-Fergus-Falls/125361324244672" target="_blank"><font color="#0066cc">Green Plains Ottertail\, Fergus Falls</font></a>\, <a href="https://www.facebook.com/someplacesafe/" target="_blank"><font color="#0066cc">Someplace Safe</font></a>\, and the Fergus Falls Police Department to bring an enhanced Safety Education Workshop.<br />\n<br />\nThis event will equip individuals with the tools\, training\, and empowerment to improve our personal safety and the safety of others around us.<br />\n<br />\nGuest Speakers / Demonstrators<br />\n<br />\nKevin Sonstebo - Fergus Falls Police Department - Self Defense Workshop<br />\n<br />\nWade Erickson - Department of Corrections - Presentation on Sexual Offenders<br />\n<br />\nJessie\, Crime Victim Advocate - Someplace Safe - Presentation on Sexual Violence\, Human Trafficking\, Stalking\, and Domestic Assault<br />\n<br />\nBy attending this event\, we are ensuring both our own safety and the safety of members of this community. It is our obligation as residents to ensure safety and implementing the skills from this workshop to the public.<br />\n<br />\nThis event is completely free to the public. Refreshments will be provided by our generous sponsors (<a href="https://www.facebook.com/715HotHeads/" target="_blank"><font color="#0066cc">715 Hot Heads</font></a>\, <a href="https://www.facebook.com/americinnfergusfalls/" target="_blank"><font color="#0066cc">AmericInn Fergus Falls</font></a>\, <a href="https://www.facebook.com/pages/Green-Plains-Ottertail-Fergus-Falls/125361324244672" target="_blank"><font color="#0066cc">Green Plains Ottertail\, Fergus Falls</font></a>)<br />\n<br />\nThe workshop will be held at the Fergus Falls AmericInn at 5:30 PM Thursday\, August 16th in the Community Room.<br />\n<br />\nEveryone in attendance will receive a free self-defense tool\, and by responding to this invitation it will allow the sponsors to have the essential means necessary to provide the most effective workshop possible.</span>
LOCATION:AmericInn Fergus Falls 526 Western Ave - Community Room Fergus Falls
UID:e.314.50317
SEQUENCE:3
DTSTAMP:20260423T193642Z
URL:https://business.fergusfalls.com/events/details/safety-education-workshop-50317
END:VEVENT

END:VCALENDAR
