BEGIN:VCALENDAR
VERSION:2.0
PRODID:-//ChamberMaster//Event Calendar 2.0//EN
METHOD:PUBLISH
X-PUBLISHED-TTL:P3D
REFRESH-INTERVAL:P3D
CALSCALE:GREGORIAN
BEGIN:VEVENT
DTSTART:20160409T160000Z
DTEND:20160409T183000Z
X-MICROSOFT-CDO-ALLDAYEVENT:FALSE
SUMMARY:salad luncheon
DESCRIPTION:Salad luncheon\, silent auction and door prizes
X-ALT-DESC;FMTTYPE=text/html:Salad luncheon\, silent auction and door prizes
LOCATION:OLV Church 207 N. Vine Fergus Falls\, MN 56537
UID:e.314.32046
SEQUENCE:3
DTSTAMP:20260425T162841Z
URL:https://business.fergusfalls.com/events/details/salad-luncheon-04-09-2016-32046
END:VEVENT

END:VCALENDAR
