BEGIN:VCALENDAR
VERSION:2.0
PRODID:-//ChamberMaster//Event Calendar 2.0//EN
METHOD:PUBLISH
X-PUBLISHED-TTL:P3D
REFRESH-INTERVAL:P3D
CALSCALE:GREGORIAN
BEGIN:VEVENT
DTSTART:20180613T153000Z
DTEND:20180613T180000Z
X-MICROSOFT-CDO-ALLDAYEVENT:FALSE
SUMMARY:Salad Luncheon & Bake Sale
DESCRIPTION:17th Annual Salad Luncheon and Bake Sale! Enjoy a variety of salads\, fruits and a variety of home baked Scandinavian goods! Bake Sale starts at 10:30am! Luncheon starts at 11:00am! Bring a friend!
X-ALT-DESC;FMTTYPE=text/html:17th Annual Salad Luncheon and Bake Sale! Enjoy a variety of salads\, fruits and a variety of home baked Scandinavian goods! Bake Sale starts at 10:30am! Luncheon starts at 11:00am! Bring a friend!
LOCATION:Bethlehem Lutheran Church FF 102 W. Junius Ave. Fergus Falls\, MN
UID:e.314.48914
SEQUENCE:3
DTSTAMP:20260423T212706Z
URL:https://business.fergusfalls.com/events/details/salad-luncheon-bake-sale-48914
END:VEVENT

END:VCALENDAR
