BEGIN:VCALENDAR
VERSION:2.0
PRODID:-//ChamberMaster//Event Calendar 2.0//EN
METHOD:PUBLISH
X-PUBLISHED-TTL:P3D
REFRESH-INTERVAL:P3D
CALSCALE:GREGORIAN
BEGIN:VEVENT
DTSTART:20160427T213000Z
DTEND:20160427T230000Z
X-MICROSOFT-CDO-ALLDAYEVENT:FALSE
SUMMARY:Salad Supper
DESCRIPTION:Salad Supper with many different types of Salads to choose from. Door prizes and items to buy such as dish cloths\, knives\, pot holders and dish towels.
X-ALT-DESC;FMTTYPE=text/html:Salad Supper with many different types of Salads to choose from. Door prizes and items to buy such as dish cloths\, knives\, pot holders and dish towels.
LOCATION:St James Catholic Church 32009 County Highway 74 Underwood\, 56586
UID:e.314.31841
SEQUENCE:3
DTSTAMP:20260425T162818Z
URL:https://business.fergusfalls.com/events/details/salad-supper-04-27-2016-31841
END:VEVENT

END:VCALENDAR
