BEGIN:VCALENDAR
VERSION:2.0
PRODID:-//ChamberMaster//Event Calendar 2.0//EN
METHOD:PUBLISH
X-PUBLISHED-TTL:P3D
REFRESH-INTERVAL:P3D
CALSCALE:GREGORIAN
BEGIN:VEVENT
DTSTART:20180929T160000Z
DTEND:20180929T190000Z
X-MICROSOFT-CDO-ALLDAYEVENT:FALSE
SUMMARY:Salvation Army Open House & Canteen
DESCRIPTION:Please join us  for the following FREE activities in recognition of The Salvation Army celebrating 125 years in Fergus Falls\, Minnesota.\n\n \n\n	Saturday\, September 29 11am-2pm Open House and Canteen\n	Sunday\, September 30 9:30am Coffee Fellowship 10am Worship 11am-2pm\n	Rally Day Festival in the Parking Lot
X-ALT-DESC;FMTTYPE=text/html:<strong>Please join us&nbsp\; for the following FREE activities in recognition of The <span style="color: rgb(255\, 0\, 0)\;">Salvation Army celebrating 125 years</span> in Fergus Falls\, Minnesota.</strong><br />\n&nbsp\;\n<ul>\n	<li>Saturday\, September 29 11am-2pm Open House and Canteen</li>\n	<li>Sunday\, September 30 9:30am Coffee Fellowship 10am Worship 11am-2pm</li>\n	<li>Rally Day Festival in the Parking Lot&nbsp\;</li>\n</ul>\n
LOCATION:6 2 2 E V E R N O N A V E F E R G U S F A L L S
UID:e.314.50370
SEQUENCE:3
DTSTAMP:20260423T165235Z
URL:https://business.fergusfalls.com/events/details/salvation-army-open-house-canteen-50370
END:VEVENT

END:VCALENDAR
