BEGIN:VCALENDAR
VERSION:2.0
PRODID:-//ChamberMaster//Event Calendar 2.0//EN
METHOD:PUBLISH
X-PUBLISHED-TTL:P3D
REFRESH-INTERVAL:P3D
CALSCALE:GREGORIAN
BEGIN:VEVENT
DTSTART:20191207T190000Z
DTEND:20191207T210000Z
X-MICROSOFT-CDO-ALLDAYEVENT:FALSE
SUMMARY:Santa and Mrs. Claus @ The Welcome House
DESCRIPTION:Bring your children to come and see Santa and Mrs\,Claus on Saturday December 7th from 1:00 to 3:00 pm Coffee and Cider and cookies will be served for parents and children. Take your child's picture with Santa and receive a free candy cane and stuff animal.
X-ALT-DESC;FMTTYPE=text/html:<div class="_63ew" data-testid="event-permalink-details"><span>Bring your children to come and see Santa and Mrs\,Claus on Saturday December 7th from 1:00 to 3:00 pm Coffee and Cider and cookies will be served for parents and children. Take your child&#39\;s picture with Santa and receive a free candy cane and stuff animal.</span></div>\n
LOCATION:The Welcome House Thrift Store 1678 College Way Fergus Falls\, MN
UID:e.314.55912
SEQUENCE:3
DTSTAMP:20260422T190445Z
URL:https://business.fergusfalls.com/events/details/santa-and-mrs-claus-the-welcome-house-55912
END:VEVENT

END:VCALENDAR
