BEGIN:VCALENDAR
VERSION:2.0
PRODID:-//ChamberMaster//Event Calendar 2.0//EN
METHOD:PUBLISH
X-PUBLISHED-TTL:P3D
REFRESH-INTERVAL:P3D
CALSCALE:GREGORIAN
BEGIN:VEVENT
DTSTART;VALUE=DATE:20181208
DTEND;VALUE=DATE:20181209
TRANSP:TRANSPARENT
X-MICROSOFT-CDO-ALLDAYEVENT:TRUE
SUMMARY:Santa and Mrs.Claus to visit on Saturday December 8th from 12 noon to 2:00 pm.
DESCRIPTION:Santa and Mrs.Claus to visit The Welcome House Thrift Store at 1678 College Way in Fergus Falls\, MN 56537 on Saturday December 8th from 12 noon to 2:00 pm. Stop by and visit to get your picture taken and candy from Santa. All ages welcome.
X-ALT-DESC;FMTTYPE=text/html:Santa and Mrs.Claus to visit The Welcome House Thrift Store at 1678 College Way in Fergus Falls\, MN 56537 on Saturday December 8th from 12 noon to 2:00 pm. Stop by and visit to get your picture taken and candy from Santa. All ages welcome.&nbsp\;
LOCATION:1678 College Way behind Fleet Farm and next to College Way Auto. We are just past the corner of College Way and Tower Road.
UID:e.314.50623
SEQUENCE:3
DTSTAMP:20260423T134704Z
URL:https://business.fergusfalls.com/events/details/santa-and-mrs-claus-to-visit-on-saturday-december-8th-from-12-noon-to-2-00-pm-50623
END:VEVENT

END:VCALENDAR
