BEGIN:VCALENDAR
VERSION:2.0
PRODID:-//ChamberMaster//Event Calendar 2.0//EN
METHOD:PUBLISH
X-PUBLISHED-TTL:P3D
REFRESH-INTERVAL:P3D
CALSCALE:GREGORIAN
BEGIN:VEVENT
DTSTART:20171124T200000Z
DTEND:20171124T203000Z
X-MICROSOFT-CDO-ALLDAYEVENT:FALSE
SUMMARY:Santa and Mrs. Santa coming to The Welcome House
DESCRIPTION:Santa and Mrs. Santa coming to the store
X-ALT-DESC;FMTTYPE=text/html:<p>Santa and Mrs. Santa coming to the store</p>\n
LOCATION:The Welcome House 1678 College Way Fergus Falls
UID:e.314.42869
SEQUENCE:3
DTSTAMP:20260424T080448Z
URL:https://business.fergusfalls.com/events/details/santa-and-mrs-santa-coming-to-the-welcome-house-42869
END:VEVENT

END:VCALENDAR
