BEGIN:VCALENDAR
VERSION:2.0
PRODID:-//ChamberMaster//Event Calendar 2.0//EN
METHOD:PUBLISH
X-PUBLISHED-TTL:P3D
REFRESH-INTERVAL:P3D
CALSCALE:GREGORIAN
BEGIN:VEVENT
DTSTART:20181222T160000Z
DTEND:20181222T170000Z
X-MICROSOFT-CDO-ALLDAYEVENT:FALSE
SUMMARY:Santa Claus at City Hall
DESCRIPTION:Santa will be visiting children during the Welcome Home event. He will appear at the Fergus Falls City Hall on Washington Ave. from 10 a.m. to 11 a.m. Grandkids in town? Good time to get a photo with the whole family!
X-ALT-DESC;FMTTYPE=text/html:<div class="_63ew" data-testid="event-permalink-details"><span>Santa will be visiting children during the Welcome Home event. He will appear at the Fergus Falls City Hall on Washington Ave. from 10 a.m. to 11 a.m. Grandkids in town? Good time to get a photo with the whole family!</span></div>\n
LOCATION:City Hall - Fergus Falls
UID:e.314.52176
SEQUENCE:3
DTSTAMP:20260423T122415Z
URL:https://business.fergusfalls.com/events/details/santa-claus-at-city-hall-52176
END:VEVENT

END:VCALENDAR
