BEGIN:VCALENDAR
VERSION:2.0
PRODID:-//ChamberMaster//Event Calendar 2.0//EN
METHOD:PUBLISH
X-PUBLISHED-TTL:P3D
REFRESH-INTERVAL:P3D
CALSCALE:GREGORIAN
BEGIN:VEVENT
DTSTART:20161210T200000Z
DTEND:20161210T210000Z
X-MICROSOFT-CDO-ALLDAYEVENT:FALSE
SUMMARY:Santa & Mrs. Claus are coming to The Welcome House!
DESCRIPTION:Bring your kids to meet Santa  and Mrs. Claus\n\nSat Dec 10 at 2 pm at the Welcome House\n\n	\n		\n			\n			 \n			\n			\n			\n			\n			\n			\n			\n			 \n			\n			\n\n			\n			\n			 \n			\n			\n			\n			\n\n			\n			\n			The Welcome House Consignment Store\n\n			1678 College Way (Look for the Lime Green Sign)\, Fergus Falls\, Minnesota 56537
X-ALT-DESC;FMTTYPE=text/html:Bring your kids to meet Santa&nbsp\; and Mrs. Claus<br />\nSat Dec 10 at 2 pm at the Welcome House\n<table cellpadding="0" cellspacing="0" class="uiGrid _51mz">\n	<tbody>\n		<tr class="_51mx">\n			<td class="_51m-">\n			<div aria-hidden="true" class="_6a">&nbsp\;</div>\n			</td>\n			<td class="_51m- _51mw">\n			<div class="clearfix _4930">\n			<div class="_xkg rfloat _ohf">\n			<div>\n			<div class="hidden_elem" id="u_jsonp_28_c">\n			<div class="_6a">\n			<div class="_6a _6b">&nbsp\;</div>\n			</div>\n			</div>\n\n			<div id="u_jsonp_28_d">\n			<div class="_6a">\n			<div class="_6a _6b">&nbsp\;</div>\n			</div>\n			</div>\n			</div>\n			</div>\n\n			<div class="_xkh _42ef">\n			<div class="_6a">\n			<div class="_6a _6b"><a class="_5xhk" data-hovercard="/ajax/hovercard/page.php?id=180070465349589" data-hovercard-prefer-more-content-show="1" data-testid="event-permalink-location" href="https://www.facebook.com/The-Welcome-House-Consignment-Store-180070465349589/" id="u_jsonp_28_e"><font color="#0066cc">The Welcome House Consignment Store</font></a>\n\n			<div class="_5xhp fsm fwn fcg">1678 College Way (Look for the Lime Green Sign)\, Fergus Falls\, Minnesota 56537</div>\n			</div>\n			</div>\n			</div>\n			</div>\n			</td>\n		</tr>\n	</tbody>\n</table>\n
LOCATION:
UID:e.314.37217
SEQUENCE:3
DTSTAMP:20260425T022901Z
URL:https://business.fergusfalls.com/events/details/santa-mrs-claus-are-coming-to-the-welcome-house-37217
END:VEVENT

END:VCALENDAR
