BEGIN:VCALENDAR
VERSION:2.0
PRODID:-//ChamberMaster//Event Calendar 2.0//EN
METHOD:PUBLISH
X-PUBLISHED-TTL:P3D
REFRESH-INTERVAL:P3D
CALSCALE:GREGORIAN
BEGIN:VEVENT
DTSTART:20151218T230000Z
DTEND:20151223T010000Z
X-MICROSOFT-CDO-ALLDAYEVENT:FALSE
SUMMARY:Santa Nights at the Johnson Christmas Village
DESCRIPTION:Santa Nights at Johnson's Christmas Village \n\nCome and talk to Santa\n\nEnjoy snacks & hot cider in the house.\n\n\n\nVisit:\n\nSanta's Workshop in Santa Land\n\nSmall Church in Jesus Land\n\nLog Cabin in Christmas Forest\n\nCrawl through barn in Elf Village
X-ALT-DESC;FMTTYPE=text/html:<strong>Santa Nights at Johnson&#39\;s Christmas Village</strong>&nbsp\;<br />\nCome and talk to Santa<br />\nEnjoy snacks &amp\; hot cider in the house.<br />\n<br />\n<strong>Visit</strong>:<br />\nSanta&#39\;s Workshop in Santa Land<br />\nSmall Church in Jesus Land<br />\nLog Cabin in Christmas Forest<br />\nCrawl through barn in Elf Village<br />\n<br />\n<br />\n&nbsp\;
LOCATION:Co. Hwy 27 (2 miles North of Fergus Falls)
UID:e.314.27961
SEQUENCE:3
DTSTAMP:20260426T011951Z
URL:https://business.fergusfalls.com/events/details/santa-nights-at-the-johnson-christmas-village-12-18-2015-27961
END:VEVENT

END:VCALENDAR
