BEGIN:VCALENDAR
VERSION:2.0
PRODID:-//ChamberMaster//Event Calendar 2.0//EN
METHOD:PUBLISH
X-PUBLISHED-TTL:P3D
REFRESH-INTERVAL:P3D
CALSCALE:GREGORIAN
BEGIN:VEVENT
DTSTART:20151205T153000Z
DTEND:20151205T180000Z
X-MICROSOFT-CDO-ALLDAYEVENT:FALSE
SUMMARY:Santa Storytime at Victor Lundeens
DESCRIPTION:Through special arrangements with our friends at the North Pole\, Santa Claus will visit on Saturday\, December 5th from 9:30 a.m. - 12 noon. There will be children's storytelling and readings by Santa at Victor Lundeen's!
X-ALT-DESC;FMTTYPE=text/html:<span class="fsl">Through special arrangements with our friends at the North Pole\, Santa Claus will visit on Saturday\, December 5th from 9:30 a.m. - 12 noon. There will be children&#39\;s storytelling and readings by Santa at Victor Lundeen&#39\;s!</span>
LOCATION:Victor Lundeen Company 126 W Lincoln Ave\, Fergus Falls\,
UID:e.314.27356
SEQUENCE:3
DTSTAMP:20260426T011643Z
URL:https://business.fergusfalls.com/events/details/santa-storytime-at-victor-lundeens-12-05-2015-27356
END:VEVENT

END:VCALENDAR
