BEGIN:VCALENDAR
VERSION:2.0
PRODID:-//ChamberMaster//Event Calendar 2.0//EN
METHOD:PUBLISH
X-PUBLISHED-TTL:P3D
REFRESH-INTERVAL:P3D
CALSCALE:GREGORIAN
BEGIN:VEVENT
DTSTART:20160430T130000Z
DTEND:20160501T030000Z
X-MICROSOFT-CDO-ALLDAYEVENT:FALSE
SUMMARY:Save 25% on C9 Women's Apparel with our Cartwheel App!
DESCRIPTION:Come to the Fergus Falls Target to save 25% on all of our Women's C9 Apparel! Spring into Summer with our fun\, new colors and styles!
X-ALT-DESC;FMTTYPE=text/html:Come to the Fergus Falls Target to save 25% on all of our Women&#39\;s C9 Apparel! Spring into Summer with our fun\, new colors and styles!
LOCATION:Target
UID:e.314.32648
SEQUENCE:3
DTSTAMP:20260425T163735Z
URL:https://business.fergusfalls.com/events/details/save-25-on-c9-women-s-apparel-with-our-cartwheel-app-04-30-2016-32648
END:VEVENT

END:VCALENDAR
