BEGIN:VCALENDAR
VERSION:2.0
PRODID:-//ChamberMaster//Event Calendar 2.0//EN
METHOD:PUBLISH
X-PUBLISHED-TTL:P3D
REFRESH-INTERVAL:P3D
CALSCALE:GREGORIAN
BEGIN:VEVENT
DTSTART:20191010T130000Z
DTEND:20191101T213000Z
X-MICROSOFT-CDO-ALLDAYEVENT:FALSE
SUMMARY:Scarecrow Fun at the MN Veterans Home-Fergus Falls
DESCRIPTION:The MN Veterans Home invites you to create & display a scarecrow in the front circle drive of our home. The Veterans and their spouses LOVE to see the creativity that goes into this autumn activity! And the trick-or-treating kiddos love them too! Poles will be up by Thursday\, October 10 and scarecrows need to arrive by Wednesday\, October 16. Scarecrows will be displayed until Friday\, November 1. Stop by the front office at the Veterans Home to pick your spot. Any questions\, please call Dori at (218)321-2506.
X-ALT-DESC;FMTTYPE=text/html:The MN Veterans Home invites you to create &amp\; display a scarecrow in the front circle drive of our home. The Veterans and their spouses LOVE to see the creativity that goes into this autumn activity! And the trick-or-treating kiddos love them too! Poles will be up by Thursday\, October 10 and scarecrows need to arrive by Wednesday\, October 16. Scarecrows will be displayed until Friday\, November 1. Stop by the front office at the Veterans Home to pick your spot. Any questions\, please call Dori at (218)321-2506.
LOCATION:MN Veterans Home 1821 North Park Street Fergus Falls\, MN 56537
UID:e.314.54786
SEQUENCE:3
DTSTAMP:20260422T202132Z
URL:https://business.fergusfalls.com/events/details/scarecrow-fun-at-the-mn-veterans-home-fergus-falls-54786
END:VEVENT

END:VCALENDAR
