BEGIN:VCALENDAR
VERSION:2.0
PRODID:-//ChamberMaster//Event Calendar 2.0//EN
METHOD:PUBLISH
X-PUBLISHED-TTL:P3D
REFRESH-INTERVAL:P3D
CALSCALE:GREGORIAN
BEGIN:VEVENT
DTSTART:20180115T130000Z
DTEND:20180330T230000Z
X-MICROSOFT-CDO-ALLDAYEVENT:FALSE
SUMMARY:School's Out Camp
DESCRIPTION:Need something fun for your child to do on school vacation days? School's Out Camp runs on non-scheduled school days at the YMCA from 7:00 a.m. - 6:00 p.m. Each day is filled with a variety of activities\, including arts and crafts\, swimming\, field trips\, and physical and recreational activities. Participants must bring their own lunch\, swimsuit and towel\, and dress appropriately for field trips. Dates are as follows: January 15\, 22\, February 19\, March 2\, 8\, 9\, 23\, 28\, 29\, 30 (Good Friday).
X-ALT-DESC;FMTTYPE=text/html:Need something fun for your child to do on school vacation days? School&#39\;s Out Camp runs on non-scheduled school days at the YMCA from 7:00 a.m. - 6:00 p.m. Each day is filled with a variety of activities\, including arts and crafts\, swimming\, field trips\, and physical and recreational activities. Participants must bring their own lunch\, swimsuit and towel\, and dress appropriately for field trips. Dates are as follows: January 15\, 22\, February 19\, March 2\, 8\, 9\, 23\, 28\, 29\, 30 (Good Friday).
LOCATION:Fergus Falls Area YMCA\, 1164 N. Friberg Ave.\, Fergus Falls
UID:e.314.24167
SEQUENCE:3
DTSTAMP:20260424T025039Z
URL:https://business.fergusfalls.com/events/details/school-s-out-camp-10-08-2015-24167
END:VEVENT

END:VCALENDAR
