BEGIN:VCALENDAR
VERSION:2.0
PRODID:-//ChamberMaster//Event Calendar 2.0//EN
METHOD:PUBLISH
X-PUBLISHED-TTL:P3D
REFRESH-INTERVAL:P3D
CALSCALE:GREGORIAN
BEGIN:VEVENT
DTSTART:20151224T130000Z
DTEND:20151224T130000Z
X-MICROSOFT-CDO-ALLDAYEVENT:FALSE
SUMMARY:School's Out Camp
DESCRIPTION:Need something fun for your child to do on school vacation days? School's Out Camp runs on non-scheduled school days at the YMCA from 7:00 AM - 6:00 PM. Each day is filled with a variety of activities\, including arts and crafts\, swimming\, field trips\, and physical and recreational activities. Participants must bring their own lunch\, swimsuit and towel\, and dress appropriately for field trips. Dates are as follows: October 8 (1/2 day)\, 9\, 15\, 16\, November 6\, December 21 through December 31.
X-ALT-DESC;FMTTYPE=text/html:Need something fun for your child to do on school vacation days? School&#39\;s Out Camp runs on non-scheduled school days at the YMCA from 7:00 AM - 6:00 PM. Each day is filled with a variety of activities\, including arts and crafts\, swimming\, field trips\, and physical and recreational activities. Participants must bring their own lunch\, swimsuit and towel\, and dress appropriately for field trips. Dates are as follows: October 8 (1/2 day)\, 9\, 15\, 16\, November 6\, December 21 through December 31.
LOCATION:Fergus Falls Area YMCA
UID:e.314.24361
SEQUENCE:3
DTSTAMP:20260425T232609Z
URL:https://business.fergusfalls.com/events/details/school-s-out-camp-12-24-2015-24361
END:VEVENT

END:VCALENDAR
