BEGIN:VCALENDAR
VERSION:2.0
PRODID:-//ChamberMaster//Event Calendar 2.0//EN
METHOD:PUBLISH
X-PUBLISHED-TTL:P3D
REFRESH-INTERVAL:P3D
CALSCALE:GREGORIAN
BEGIN:VEVENT
DTSTART:20260419T130000Z
DTEND:20260419T160000Z
X-MICROSOFT-CDO-ALLDAYEVENT:FALSE
SUMMARY:Scouting for Food Breakfast
DESCRIPTION:Join us Sunday\, April 19th for our Famous Scout Breakfast a delicious way to start your day! While you're here\, don't forget to drop off your Scouting for Food donations to support the Battle Lake Food Shelf. Great food\, great cause see you there!
X-ALT-DESC;FMTTYPE=text/html:Join us Sunday\, April 19th for our Famous Scout Breakfast&mdash\;a delicious way to start your day! While you&#39\;re here\, don&#39\;t forget to drop off your Scouting for Food donations to support the Battle Lake Food Shelf. Great food\, great cause&mdash\;see you there!
LOCATION:Underwood Community Center
UID:e.314.77129
SEQUENCE:3
DTSTAMP:20260421T082934Z
URL:https://business.fergusfalls.com/events/details/scouting-for-food-breakfast-77129
END:VEVENT

END:VCALENDAR
