BEGIN:VCALENDAR
VERSION:2.0
PRODID:-//ChamberMaster//Event Calendar 2.0//EN
METHOD:PUBLISH
X-PUBLISHED-TTL:P3D
REFRESH-INTERVAL:P3D
CALSCALE:GREGORIAN
BEGIN:VEVENT
DTSTART:20151119T170000Z
DTEND:20151119T210000Z
X-MICROSOFT-CDO-ALLDAYEVENT:FALSE
SUMMARY:Second Annual Thanksgiving Open House
DESCRIPTION:Second Annual Thanksgiving Open House\n\n\n\nAt Bell State Bank & Trust\, we are thankful for our community and customers.\n\n\n\nPlease join us Thur\, Nov 19 11am-3pm\n\n\n\nThanksgiving treats by The City Bakery and Service Food Market and hot apple cider will also be served.
X-ALT-DESC;FMTTYPE=text/html:Second Annual Thanksgiving Open House<br />\n<br />\nAt Bell State Bank &amp\; Trust\, we are thankful for our community and customers.<br />\n<br />\nPlease join us Thur\, Nov 19 11am-3pm<br />\n<br />\nThanksgiving treats by The City Bakery and Service Food Market and hot apple cider will also be served.
LOCATION:Bell State Bank & Trust 205 West Washington Ave Fergus Falls
UID:e.314.26467
SEQUENCE:3
DTSTAMP:20260426T011149Z
URL:https://business.fergusfalls.com/events/details/second-annual-thanksgiving-open-house-11-19-2015-26467
END:VEVENT

END:VCALENDAR
