BEGIN:VCALENDAR
VERSION:2.0
PRODID:-//ChamberMaster//Event Calendar 2.0//EN
METHOD:PUBLISH
X-PUBLISHED-TTL:P3D
REFRESH-INTERVAL:P3D
CALSCALE:GREGORIAN
BEGIN:VEVENT
DTSTART:20191206T150000Z
DTEND:20191206T220000Z
X-MICROSOFT-CDO-ALLDAYEVENT:FALSE
SUMMARY:Security State Bank Christmas Open House
DESCRIPTION:CHRISTMAS OPEN HOUSE - Security State Bank\n\nFRIDAY\, DECEMBER 6TH\n\n9:00 A.M. TO 4:00 P.M\n\n	9:30 Rothsay School\, Karen Phillips 2nd Grade\n	10:15 Adams Elementary - Pam Schurmann and Katie Stortroen 2 ndGrade\n	11:00 1:30 2:40 Morning Son\, Aaron .Juliot\, 3rd to 6th Grade Anne Hintz\, Pianist Fergus Falls High School\, Acapel1a Janel Trosvig\, High School Acapella Choir\n\n\n\n Homemade Treats\, Cookies\, Cider & Coffee
X-ALT-DESC;FMTTYPE=text/html:<br />\n<strong>CHRISTMAS OPEN HOUSE - Security State Bank</strong><br />\nFRIDAY\, DECEMBER 6TH<br />\n9:00 A.M. TO 4:00 P.M\n<ul>\n	<li>9:30 Rothsay School\, Karen Phillips 2nd Grade</li>\n	<li>10:15 Adams Elementary - Pam Schurmann and Katie Stortroen 2 ndGrade</li>\n	<li>11:00 1:30 2:40 Morning Son\, Aaron .Juliot\, 3rd to 6th Grade Anne Hintz\, Pianist Fergus Falls High School\, Acapel1a Janel Trosvig\, High School Acapella Choir</li>\n</ul>\n<br />\n&nbsp\;Homemade Treats\, Cookies\, Cider &amp\; Coffee<br />\n&nbsp\;
LOCATION:Security State Bank - of Fergus Falls 128 E Washington Ave Fergus Falls\, MN 56537 (218) 736-5485
UID:e.314.55987
SEQUENCE:3
DTSTAMP:20260422T172337Z
URL:https://business.fergusfalls.com/events/details/security-state-bank-christmas-open-house-12-06-2019-55987
END:VEVENT

END:VCALENDAR
