BEGIN:VCALENDAR
VERSION:2.0
PRODID:-//ChamberMaster//Event Calendar 2.0//EN
METHOD:PUBLISH
X-PUBLISHED-TTL:P3D
REFRESH-INTERVAL:P3D
CALSCALE:GREGORIAN
BEGIN:VEVENT
DTSTART:20151217T150000Z
DTEND:20151217T210000Z
X-MICROSOFT-CDO-ALLDAYEVENT:FALSE
SUMMARY:Security State Bank Christmas Open House
DESCRIPTION:Security State Bank Hosts it's Christmas Open House\n\n\n\nThursday\, Dec 17th\n\n9am-3pm\n\n\n\nJoin Us for an assortment of entertainment throughout the day\, light goodies and refreshments.
X-ALT-DESC;FMTTYPE=text/html:<p><strong><span style="font-size: 14px\;"><span style="color: rgb(255\, 0\, 0)\;">Security State Bank Hosts it&#39\;s Christmas Open House</span></span><br />\n<br />\n<em>Thursday\, Dec 17th<br />\n9am-3pm</em><br />\n<br />\nJoin Us for an assortment of entertainment throughout the day\, light goodies and refreshments. </strong></p>\n
LOCATION:Security State Bank 128 E Washington Ave Fergus Falls
UID:e.314.27802
SEQUENCE:3
DTSTAMP:20260426T011250Z
URL:https://business.fergusfalls.com/events/details/security-state-bank-christmas-open-house-12-17-2015-27802
END:VEVENT

END:VCALENDAR
