BEGIN:VCALENDAR
VERSION:2.0
PRODID:-//ChamberMaster//Event Calendar 2.0//EN
METHOD:PUBLISH
X-PUBLISHED-TTL:P3D
REFRESH-INTERVAL:P3D
CALSCALE:GREGORIAN
BEGIN:VEVENT
DTSTART:20161214T150000Z
DTEND:20161214T220000Z
X-MICROSOFT-CDO-ALLDAYEVENT:FALSE
SUMMARY:Security State Bank Christmas Open House
DESCRIPTION:Security State Bank will be holding their Christmas Open House with local Entertainment  throughout the day and treats.
X-ALT-DESC;FMTTYPE=text/html:Security State Bank will be holding their Christmas Open House with local Entertainment&nbsp\; throughout the day and treats.
LOCATION:Security State Bank
UID:e.314.36619
SEQUENCE:3
DTSTAMP:20260425T034733Z
URL:https://business.fergusfalls.com/events/details/security-state-bank-christmas-open-house-36619
END:VEVENT

END:VCALENDAR
