BEGIN:VCALENDAR
VERSION:2.0
PRODID:-//ChamberMaster//Event Calendar 2.0//EN
METHOD:PUBLISH
X-PUBLISHED-TTL:P3D
REFRESH-INTERVAL:P3D
CALSCALE:GREGORIAN
BEGIN:VEVENT
DTSTART:20181212T150000Z
DTEND:20181212T220000Z
X-MICROSOFT-CDO-ALLDAYEVENT:FALSE
SUMMARY:Security State Bank Open House
DESCRIPTION:Security State Bank Christmas Open House\n\nDecember 12th \n\n \n\n	9:15-9:45 - Rothsay School 2nd Grade\n	10:15-10:45 - Underwood School Chior Concert\n	11:00-11:30 - Morning Son Christian School\n	12:15-12:45 - Adams School Second Grade\n	1:00-1:30 - Pianist Christine Uggerud\n	1:45-2:15 -  McKinley Kindergarten\n	2:30-3:00 - Hillcrest Lutheran Academy
X-ALT-DESC;FMTTYPE=text/html:<strong><span style="font-size: 18px\;">Security State Bank Christmas Open House<br />\nDecember 12th </span></strong><br />\n&nbsp\;\n<ul>\n	<li><strong>9:15-9:45</strong> - Rothsay School 2nd Grade</li>\n	<li><strong>10:15-10:45</strong> - Underwood School Chior Concert</li>\n	<li><strong>11:00-11:30</strong> - Morning Son Christian School</li>\n	<li><strong>12:15-12:45 -</strong> Adams School Second Grade</li>\n	<li><strong>1:00-1:30 </strong>- Pianist Christine Uggerud</li>\n	<li><strong>1:45-2:15</strong> - &nbsp\;McKinley Kindergarten</li>\n	<li><strong>2:30-3:00</strong> - Hillcrest Lutheran Academy</li>\n</ul>\n<br />\n&nbsp\;
LOCATION:Security State Bank 128 E Washington Ave Fergus Falls MN
UID:e.314.52056
SEQUENCE:3
DTSTAMP:20260423T121940Z
URL:https://business.fergusfalls.com/events/details/security-state-bank-open-house-52056
END:VEVENT

END:VCALENDAR
