BEGIN:VCALENDAR
VERSION:2.0
PRODID:-//ChamberMaster//Event Calendar 2.0//EN
METHOD:PUBLISH
X-PUBLISHED-TTL:P3D
REFRESH-INTERVAL:P3D
CALSCALE:GREGORIAN
BEGIN:VEVENT
DTSTART:20181201T200000Z
DTEND:20181202T000000Z
X-MICROSOFT-CDO-ALLDAYEVENT:FALSE
SUMMARY:Selfies with Santa @ City Hall
DESCRIPTION:Selfies with Santa at City Hall as one of the outdoor activities of the Over the River Holiday Festival: http://www.fergusfalls.com/events/details/over-the-river-holiday-festival-50474
X-ALT-DESC;FMTTYPE=text/html:<div class="_63ew" data-testid="event-permalink-details"><span>Selfies with Santa at City Hall as one of the outdoor activities of the Over the River Holiday Festival: </span><a href="http://www.fergusfalls.com/events/details/over-the-river-holiday-festival-50474">http://www.fergusfalls.com/events/details/over-the-river-holiday-festival-50474</a></div>\n
LOCATION:City Hall Washington Ave Fergus Falls MN
UID:e.314.51708
SEQUENCE:3
DTSTAMP:20260423T133650Z
URL:https://business.fergusfalls.com/events/details/selfies-with-santa-city-hall-51708
END:VEVENT

END:VCALENDAR
