BEGIN:VCALENDAR
VERSION:2.0
PRODID:-//ChamberMaster//Event Calendar 2.0//EN
METHOD:PUBLISH
X-PUBLISHED-TTL:P3D
REFRESH-INTERVAL:P3D
CALSCALE:GREGORIAN
BEGIN:VEVENT
DTSTART:20180813T213000Z
DTEND:20180813T233000Z
X-MICROSOFT-CDO-ALLDAYEVENT:FALSE
SUMMARY:Senior Center Caribbean Festival
DESCRIPTION:Caribbean Festival - Fergus Falls Senior Center \n\nWhen: August 13\,  2018\n\nTime: 4:30-6:30 \n\nWhat to expect: Music by Motu\, serving Underwood Lions pork chops & hot dogs for the kids.\n\nCost:  $8 adults\, $4 children ages 4-10\, under 4 eat for free.
X-ALT-DESC;FMTTYPE=text/html:<p><span style="font-family: &quot\;Arial&quot\;\,sans-serif\; font-size: 10pt\; mso-fareast-font-family: &quot\;Times New Roman&quot\;\; mso-ansi-language: EN-US\; mso-fareast-language: EN-US\; mso-bidi-language: AR-SA\;"><span style="font-family: &quot\;Arial&quot\;\,sans-serif\; font-size: 10pt\; mso-fareast-font-family: &quot\;Times New Roman&quot\;\; mso-ansi-language: EN-US\; mso-fareast-language: EN-US\; mso-bidi-language: AR-SA\;"><strong>Caribbean Festival&nbsp\;</strong>- <strong>Fergus Falls Senior Center </strong></span></span></p>\n\n<p><span style="font-family: &quot\;Arial&quot\;\,sans-serif\; font-size: 10pt\; mso-fareast-font-family: &quot\;Times New Roman&quot\;\; mso-ansi-language: EN-US\; mso-fareast-language: EN-US\; mso-bidi-language: AR-SA\;"><strong>When:</strong> August 13\,&nbsp\; 2018</span></p>\n\n<p><span style="font-family: &quot\;Arial&quot\;\,sans-serif\; font-size: 10pt\; mso-fareast-font-family: &quot\;Times New Roman&quot\;\; mso-ansi-language: EN-US\; mso-fareast-language: EN-US\; mso-bidi-language: AR-SA\;"><strong>Time: </strong>4:30-6:30 </span></p>\n\n<p><span style="font-family: &quot\;Arial&quot\;\,sans-serif\; font-size: 10pt\; mso-fareast-font-family: &quot\;Times New Roman&quot\;\; mso-ansi-language: EN-US\; mso-fareast-language: EN-US\; mso-bidi-language: AR-SA\;"><strong>What to expect: </strong><span style="font-family: &quot\;Arial&quot\;\,sans-serif\; font-size: 10pt\; mso-fareast-font-family: &quot\;Times New Roman&quot\;\; mso-ansi-language: EN-US\; mso-fareast-language: EN-US\; mso-bidi-language: AR-SA\;">Music by Motu\,<span style="font-family: &quot\;Arial&quot\;\,sans-serif\; font-size: 10pt\; mso-fareast-font-family: &quot\;Times New Roman&quot\;\; mso-ansi-language: EN-US\; mso-fareast-language: EN-US\; mso-bidi-language: AR-SA\;"><span style="font-family: &quot\;Arial&quot\;\,sans-serif\; font-size: 10pt\; mso-fareast-font-family: &quot\;Times New Roman&quot\;\; mso-ansi-language: EN-US\; mso-fareast-language: EN-US\; mso-bidi-language: AR-SA\;">&nbsp\;serving Underwood Lions pork chops &amp\; hot dogs for the kids.</span></span></span></span></p>\n\n<p><span style="font-family: &quot\;Arial&quot\;\,sans-serif\; font-size: 10pt\; mso-fareast-font-family: &quot\;Times New Roman&quot\;\; mso-ansi-language: EN-US\; mso-fareast-language: EN-US\; mso-bidi-language: AR-SA\;"><span style="font-family: &quot\;Arial&quot\;\,sans-serif\; font-size: 10pt\; mso-fareast-font-family: &quot\;Times New Roman&quot\;\; mso-ansi-language: EN-US\; mso-fareast-language: EN-US\; mso-bidi-language: AR-SA\;"><span style="font-family: &quot\;Arial&quot\;\,sans-serif\; font-size: 10pt\; mso-fareast-font-family: &quot\;Times New Roman&quot\;\; mso-ansi-language: EN-US\; mso-fareast-language: EN-US\; mso-bidi-language: AR-SA\;"><span style="font-family: &quot\;Arial&quot\;\,sans-serif\; font-size: 10pt\; mso-fareast-font-family: &quot\;Times New Roman&quot\;\; mso-ansi-language: EN-US\; mso-fareast-language: EN-US\; mso-bidi-language: AR-SA\;"><strong>Cost: &nbsp\;</strong>$8 adults\, $4 children ages 4-10\, under 4 eat for free. </span></span></span></span></p>\n
LOCATION:
UID:e.314.49928
SEQUENCE:3
DTSTAMP:20260423T194455Z
URL:https://business.fergusfalls.com/events/details/senior-center-caribbean-festival-49928
END:VEVENT

END:VCALENDAR
