BEGIN:VCALENDAR
VERSION:2.0
PRODID:-//ChamberMaster//Event Calendar 2.0//EN
METHOD:PUBLISH
X-PUBLISHED-TTL:P3D
REFRESH-INTERVAL:P3D
CALSCALE:GREGORIAN
BEGIN:VEVENT
DTSTART:20180924T140000Z
DTEND:20180924T163000Z
X-MICROSOFT-CDO-ALLDAYEVENT:FALSE
SUMMARY:Senior Center Open House
DESCRIPTION:The public is invited to visit us during our Open House to see what our "Your Healthy Aging Center" has to offer.
X-ALT-DESC;FMTTYPE=text/html:The public is invited to visit us during our Open House to see what our &quot\;Your Healthy Aging Center&quot\; has to offer.
LOCATION:Fergus Falls Senior Center 115 Lincoln Ave W Fergus Falls MN
UID:e.314.50365
SEQUENCE:3
DTSTAMP:20260423T165037Z
URL:https://business.fergusfalls.com/events/details/senior-center-open-house-50365
END:VEVENT

END:VCALENDAR
