BEGIN:VCALENDAR
VERSION:2.0
PRODID:-//ChamberMaster//Event Calendar 2.0//EN
METHOD:PUBLISH
X-PUBLISHED-TTL:P3D
REFRESH-INTERVAL:P3D
CALSCALE:GREGORIAN
BEGIN:VEVENT
DTSTART:20240422T213000Z
DTEND:20240422T233000Z
X-MICROSOFT-CDO-ALLDAYEVENT:FALSE
SUMMARY:Senior Center Spaghetti Feed
DESCRIPTION:Annual Spaghetti Feed to raise funds for the Fergus Falls Senior Center
X-ALT-DESC;FMTTYPE=text/html:Annual Spaghetti Feed to raise funds for the Fergus Falls Senior Center
LOCATION:115 Lincoln Ave W
UID:e.314.70723
SEQUENCE:3
DTSTAMP:20260424T100435Z
URL:https://business.fergusfalls.com/events/details/senior-center-spaghetti-feed-04-22-2024-70723
END:VEVENT

END:VCALENDAR
