BEGIN:VCALENDAR
VERSION:2.0
PRODID:-//ChamberMaster//Event Calendar 2.0//EN
METHOD:PUBLISH
X-PUBLISHED-TTL:P3D
REFRESH-INTERVAL:P3D
CALSCALE:GREGORIAN
BEGIN:VEVENT
DTSTART;VALUE=DATE:20161207
DTEND;VALUE=DATE:20161208
TRANSP:TRANSPARENT
X-MICROSOFT-CDO-ALLDAYEVENT:TRUE
SUMMARY:Senior Day at Skopko
DESCRIPTION:Senior Day at Shopko Hometown \n\nSeniors\, age 55 and older\, will receive a 15% Discount
X-ALT-DESC;FMTTYPE=text/html:<span style="font-size: 36px\;">Senior Day at Shopko Hometown </span><br />\n<font size="6">Seniors\, age 55 and older\, will receive a </font><b><font face="Tahoma\,Tahoma" size="7"><font face="Tahoma\,Tahoma" size="7">15% Discount </font></font></b>
LOCATION:226 E. Lincoln Ave. Fergus Falls\, MN 56537 (218) 736-5448
UID:e.314.37216
SEQUENCE:3
DTSTAMP:20260425T021959Z
URL:https://business.fergusfalls.com/events/details/senior-day-at-skopko-37216
END:VEVENT

END:VCALENDAR
