BEGIN:VCALENDAR
VERSION:2.0
PRODID:-//ChamberMaster//Event Calendar 2.0//EN
METHOD:PUBLISH
X-PUBLISHED-TTL:P3D
REFRESH-INTERVAL:P3D
CALSCALE:GREGORIAN
BEGIN:VEVENT
DTSTART:20160721T150000Z
DTEND:20160721T200000Z
X-MICROSOFT-CDO-ALLDAYEVENT:FALSE
SUMMARY:Senior Resource Fair
DESCRIPTION:A Senior Resource Fair for those 55+. Come see many agencies\, services and benefits for those in their senior years. Fair admission. No additional fee to attend. Stay tuned for more details.
X-ALT-DESC;FMTTYPE=text/html:A Senior Resource Fair for those 55+. Come see many agencies\, services and benefits for those in their senior years. Fair admission. No additional fee to attend. Stay tuned for more details.
LOCATION:West Otter Tail County Fair
UID:e.314.28217
SEQUENCE:3
DTSTAMP:20260425T125246Z
URL:https://business.fergusfalls.com/events/details/senior-resource-fair-07-21-2016-28217
END:VEVENT

END:VCALENDAR
