BEGIN:VCALENDAR
VERSION:2.0
PRODID:-//ChamberMaster//Event Calendar 2.0//EN
METHOD:PUBLISH
X-PUBLISHED-TTL:P3D
REFRESH-INTERVAL:P3D
CALSCALE:GREGORIAN
BEGIN:VEVENT
DTSTART;VALUE=DATE:20210722
DTEND;VALUE=DATE:20210723
TRANSP:TRANSPARENT
X-MICROSOFT-CDO-ALLDAYEVENT:TRUE
SUMMARY:Seniors (55+) Resource Day at West Otter Tail County
DESCRIPTION:Senior Resource FAIR! \n\n\n\nResource Fair from 10am-2pm with LIVE Entertainment\n\n\n\nFREE ADMISSION FOR SENIORS 55+
X-ALT-DESC;FMTTYPE=text/html:<div style="text-align: center\;"><span style="font-size:20px\;"><span style="font-family:tahoma\;">Senior Resource FAIR!&nbsp\;<br />\n<br />\nResource Fair from 10am-2pm with LIVE Entertainment<br />\n<br />\nFREE ADMISSION FOR SENIORS 55+</span></span></div>\n
LOCATION:
UID:e.314.62414
SEQUENCE:3
DTSTAMP:20260421T112012Z
URL:https://business.fergusfalls.com/events/details/seniors-55-resource-day-at-west-otter-tail-county-62414
END:VEVENT

END:VCALENDAR
