BEGIN:VCALENDAR
VERSION:2.0
PRODID:-//ChamberMaster//Event Calendar 2.0//EN
METHOD:PUBLISH
X-PUBLISHED-TTL:P3D
REFRESH-INTERVAL:P3D
CALSCALE:GREGORIAN
BEGIN:VEVENT
DTSTART:20171001T190000Z
DTEND:20171001T200000Z
X-MICROSOFT-CDO-ALLDAYEVENT:FALSE
SUMMARY:Service of Commemoration
DESCRIPTION:Please Join Us:\n\nSunday\, October 1\, 2017\n\n2:00 p.m.\n\nThe PioneerCare Original Campus\n\n1006 Sheridan Street S\, Fergus Falls\nSpecial Message by the Reverend Laurie Natwick\, Assistant to the Bishop of the ELCA Northwest Minnesota Synod\n\nOn October 7\, 1928\, area churches held special worship services to celebrate a new way of caring for elders and at 2:00 that afternoon\, the first residents moved into Pioneer Home. Please join us as we commemorate that day\, honor our past\, and peer into the future.\n\nRefreshments and self-guided tours will follow the service.\n\nNo RSVP necessary. Call 218.998.1500 with questions
X-ALT-DESC;FMTTYPE=text/html:<strong>Please Join Us:</strong><br />\nSunday\, October 1\, 2017<br />\n2:00 p.m.<br />\nThe PioneerCare Original Campus<br />\n1006 Sheridan Street S\, Fergus Falls\n<p>Special Message by the Reverend Laurie Natwick\, Assistant to the Bishop of the ELCA Northwest Minnesota Synod</p>\n\n<p>On October 7\, 1928\, area churches held special worship services to celebrate a new way of caring for elders and at 2:00 that afternoon\, the first residents moved into Pioneer Home. Please join us as we commemorate that day\, honor our past\, and peer into the future.</p>\n\n<p>Refreshments and self-guided tours will follow the service.</p>\n\n<p>No RSVP necessary. Call 218.998.1500 with questions</p>\n
LOCATION:The PioneerCare Original Campus 1006 Sheridan Street S\, Fergus Falls
UID:e.314.41606
SEQUENCE:3
DTSTAMP:20260424T105225Z
URL:https://business.fergusfalls.com/events/details/service-of-commemoration-41606
END:VEVENT

END:VCALENDAR
