BEGIN:VCALENDAR
VERSION:2.0
PRODID:-//ChamberMaster//Event Calendar 2.0//EN
METHOD:PUBLISH
X-PUBLISHED-TTL:P3D
REFRESH-INTERVAL:P3D
CALSCALE:GREGORIAN
BEGIN:VEVENT
DTSTART:20191214T210000Z
DTEND:20191214T220000Z
X-MICROSOFT-CDO-ALLDAYEVENT:FALSE
SUMMARY:Service of Remembrance
DESCRIPTION:A time to pay tribute to those we have loved and lost.  Whether your loss is recent or decades old\, we invite you to this special time of music\, message and reflection.  Refreshments will follow.
X-ALT-DESC;FMTTYPE=text/html:A time to pay tribute to those we have loved and lost.&nbsp\; Whether your loss is recent or decades old\, we invite you to this special time of music\, message and reflection.&nbsp\; Refreshments will follow.<br />\n&nbsp\;
LOCATION:Olson Funeral Home Chapel 711 Pebble Lake Road Fergus Falls\, MN 56537
UID:e.314.55798
SEQUENCE:3
DTSTAMP:20260422T172334Z
URL:https://business.fergusfalls.com/events/details/service-of-remembrance-11-07-2019-55798
END:VEVENT

END:VCALENDAR
