BEGIN:VCALENDAR
VERSION:2.0
PRODID:-//ChamberMaster//Event Calendar 2.0//EN
METHOD:PUBLISH
X-PUBLISHED-TTL:P3D
REFRESH-INTERVAL:P3D
CALSCALE:GREGORIAN
BEGIN:VEVENT
DTSTART:20161203T210000Z
DTEND:20161203T230000Z
X-MICROSOFT-CDO-ALLDAYEVENT:FALSE
SUMMARY:Service of Remembrance
DESCRIPTION:A time to pay tribute to those we have loved and lost. Whether your loss is new or decades old\, whether we've served your family or not\, we welcome you to enjoy this special time of music\, message and reflection. A memorial ornament will be given to each family represented. Refreshments to follow. All are welcome to attend.
X-ALT-DESC;FMTTYPE=text/html:A time to pay tribute to those we have loved and lost. Whether your loss is new or decades old\, whether we&#39\;ve served your family or not\, we welcome you to enjoy this special time of music\, message and reflection. A memorial ornament will be given to each family represented. Refreshments to follow. All are welcome to attend.
LOCATION:711 Pebble Lake Road\, Fergus Falls\, MN
UID:e.314.36573
SEQUENCE:3
DTSTAMP:20260425T034732Z
URL:https://business.fergusfalls.com/events/details/service-of-remembrance-36573
END:VEVENT

END:VCALENDAR
