BEGIN:VCALENDAR
VERSION:2.0
PRODID:-//ChamberMaster//Event Calendar 2.0//EN
METHOD:PUBLISH
X-PUBLISHED-TTL:P3D
REFRESH-INTERVAL:P3D
CALSCALE:GREGORIAN
BEGIN:VEVENT
DTSTART;VALUE=DATE:20210716
DTEND;VALUE=DATE:20210717
TRANSP:TRANSPARENT
X-MICROSOFT-CDO-ALLDAYEVENT:TRUE
SUMMARY:Shop\, Drop\, ‘n Win Summer 2021
DESCRIPTION:Shop Locally for a Chance to Win $500\n\nChance to Win Fergus Bucks\n\nSHOP: In Fergus Falls July 15 - August 1\, 2021\n\nDROP: By the Chamber with receipts or Register Online\n\nWIN: Drawings for $500 Fergus Bucks\n\n \n\nBonus Entries for purchases made at Chamber Members\n\n\n\nRegister at Chamber office or online. No purchase necessary. Need not be present to win. 1 non-purchase entry per person per day. You keep receipt. Must be 18+ years old to enter. Enter for purchases made in Fergus Falls (or at Chamber members) July 15 - August 1\, 2021. Entries must be received by August 2\, 2021 at 5:00pm.
X-ALT-DESC;FMTTYPE=text/html:<span style="font-family:verdana\;"><span style="font-size:14px\;"><span style="font-size:16px\;"><span style="color:#427730\;"><strong>Shop Locally for a Chance to Win $500</strong></span><br />\n<strong>Chance to Win Fergus Bucks</strong><br />\n<span style="color:#002183\;"><strong>SHOP</strong>: </span><span style="color:#000000\;">In Fergus Falls</span><span style="color:#002183\;">&nbsp\;</span>July 15 - August 1\, 2021<br />\n<span style="color:#002183\;"><strong>DROP</strong>: </span>By the Chamber with receipts or <strong><a href="http://www.fergusfalls.com/form/view/23281" target="_blank">Register Online</a></strong><br />\n<span style="color:#002183\;"><strong>WIN</strong>: </span>Drawings for <sup>$</sup>500 Fergus Bucks<br />\n&nbsp\;<br />\n<strong><u>Bonus Entries for purchases made&nbsp\;</u></strong><strong>at&nbsp\;<a href="http://www.fergusfalls.com/list/">Chamber Members</a></strong></span><br />\n<br />\n<span style="font-size:10px\;"><span style="color: rgb(0\, 0\, 0)\; font-style: italic\;">Register at Chamber office or online. No purchase necessary. Need not be present to win. 1 non-purchase entry per person per day. You keep receipt. Must be 18+ years old to enter. Enter for purchases made in Fergus Falls (or at Chamber members) July 15 - August 1\, 2021. Entries must be received by August 2\, 2021 at 5:00pm.</span></span></span></span>
LOCATION:Shop in Fergus Falls Register at Fergus Falls Chamber office 202 S. Court St. Fergus Falls\, MN Or online: Register Online
UID:e.314.63294
SEQUENCE:3
DTSTAMP:20260421T111922Z
URL:https://business.fergusfalls.com/events/details/shop-drop-n-win-2021-07-16-2021-63294
END:VEVENT

END:VCALENDAR
