BEGIN:VCALENDAR
VERSION:2.0
PRODID:-//ChamberMaster//Event Calendar 2.0//EN
METHOD:PUBLISH
X-PUBLISHED-TTL:P3D
REFRESH-INTERVAL:P3D
CALSCALE:GREGORIAN
BEGIN:VEVENT
DTSTART:20160111T160000Z
DTEND:20160111T170000Z
X-MICROSOFT-CDO-ALLDAYEVENT:FALSE
SUMMARY:Shop\, Move & Groove Committee Meeting
DESCRIPTION:
X-ALT-DESC;FMTTYPE=text/html:
LOCATION:Chamber office
UID:e.314.27980
SEQUENCE:3
DTSTAMP:20260425T215559Z
URL:https://business.fergusfalls.com/events/details/shop-move-groove-committee-meeting-01-11-2016-27980
END:VEVENT

END:VCALENDAR
