BEGIN:VCALENDAR
VERSION:2.0
PRODID:-//ChamberMaster//Event Calendar 2.0//EN
METHOD:PUBLISH
X-PUBLISHED-TTL:P3D
REFRESH-INTERVAL:P3D
CALSCALE:GREGORIAN
BEGIN:VEVENT
DTSTART:20160713T200000Z
DTEND:20160714T000000Z
X-MICROSOFT-CDO-ALLDAYEVENT:FALSE
SUMMARY:Shop\, Move 'n Groove - Downtown Fergus Falls
DESCRIPTION:Shop Move 'n Groove is a A NEW Community Event downtown Fergus Falls promoting active living\, family fun\, healthy food\, music\, shopping\, neighboring businesses\, and local arts. Activities for all ages from 3-7pm on Lincoln Avenue.\n\nCLICK HERE FOR EVENTS MAP \n\nSHOP -- Pick Up Your Shoppers Tag for Bonus Discounts valid thru Sept. 30\n\n  Sidewalk & Parking Lot Sales: Cooper's Office Supplies\, Liberty Business Systems\, Victor Lundeen Co.\, The Market & more!\n\n  S'MORE Sidewalk Sales: Calla Lily Designs (Union Ave).\, Fergus Home & Hardware (Tower Rd.) & Nature's Garden World (Hwy. 210)\n\n  In the Bag Produce Sale Service Food     \n\n  Grilling Samples The Market     \n\n  Pop\, Move 'n Groove The Flower Mill  \n\n  Rummage & Craft Sale A Place to Belong\n\n  Local Artists' Show & Sale Springboard for the Arts\, Featuring: Sam Norman\, Jenny Field\, Erika Smith & Kirk Williams\n\n  StreetSide Makeovers 715 Hot Heads\n\n  Glass Etching Demonstration Barely There Custom Etches\n\n  Money Tree Fun Edward Jones\, Matt Hendricks\n\nMOVE\n\n  "Borrow-a-Bike" + Safety & Maintenance Tips Pedal FF (Cascade St.)\n\n  Riverside Yoga with LRH Health & Wellness Hub\, City Hall Park\, 5pm\n\n  Zumba Party with LRH Health & Wellness Hub\, 4pm & 5pm\n\n  Family Jump Rope Contest & Lemonade Stand Ameriprise Financial Svc\n\n  Inflatable Obstacle Course Lake Region Healthcare\n\n  Mini - Olympics Bethel Lutheran Church \n\n  Bean Bag Toss - Chance to Win a Bike Pemberton Law           \n\n  Pickleball  YMCA\n\n  Outdoor Games Friends of the Library\n\n  AFIT Challenge Anytime Fitness           \n\n  Family Activity Target\n\n  Rotary Lucky Duck Derby Noon Rotary\, Otter Tail River\, 5 pm\n\n  4k & 7 Beers Ago Fun Run Union Pizza & Brewing Co\, 6pm\n\n  Mystery Walking Tour River Inn\, Otter Tail Co. Historical Society\, 7 pm\n\nGROOVE\n\n  Kids Dance Party with DJ\, Otter Tail Telcom/Park Region Telephone\n\n  Kids Limbo Contest Fergus Falls Spine & Injury Center\n\n  Chalk & Bubbles Fergus Falls Noon Kiwanis\n\n  Art Display & Drink Specials The Spot Panini & Wine\n\n  BINGO Olson's Furniture & Design Studio\n\n  Temporary Tattoos Reactor Ink\n\n  Sidewalk Chalk & Plein Air Demonstrations Kaddatz Galleries\n\n  Line Dancing\, Watermelon Eating & Seed Spitting Contests Senior Center\n\n  Giant Jenga & Jams Larson Insurance\n\n  Painting Demonstration with Ian Bell Old Crow Tattoo Co\n\n  Sidewalk Art with Chalk AC4TA & Fergus Falls Arts Council\n\n  Ollie the Otter Otter Tail Power Co\n\n  Live Music Union Pizza & Brewing Co\n\n  Leighton Broadcasting LIVE Remote 3-5pm\n\n& More! \n\nBike\, Rollerblade & Skateboard on Lincoln Ave. (Bring safety gear)\n\n\n	Please NOTE: Lincoln Avenue from Cascade to Union will be closed/no parking from 1-8pm on Wednesday\, July 13.\n\nClick Here for FAQ
X-ALT-DESC;FMTTYPE=text/html:<div class="text_exposed_root text_exposed" id="id_56eb25cd75a6a9556855800"><span style="font-size:12px\;"><span style="color:#000000\;"><strong><span class="_fbReactionComponent__eventDetailsContent fsl">Shop Move &#39\;n Groove is a&nbsp\;A NEW Community Event downtown Fergus Falls promoting active living\, family fun\, healthy food\, music\, shopping\, neighboring businesses\, and local arts. Activities for all ages from 3-7pm on&nbsp\;Lincoln Avenue.</span></strong></span></span><br />\n<span style="font-size:16px\;"><span style="font-family:verdana\;"><strong><a href="https://chambermaster.blob.core.windows.net/userfiles/UserFiles/chambers/314/File/ShopMovenGrooveEventMAPfinal2016.pdf"><span style="color:#006400\;">CLICK HERE FOR EVENTS MAP</span></a></strong><span style="color:#006400\;"> </span></span></span>\n\n<div class="text_exposed_root text_exposed" style="line-height: 20.8px\;"><span style="font-weight:bold\;language:en-US\;"><span style="color:#0070A9\;"><span style="font-family:century gothic\;"><span style="font-size:11.0pt\;">SHOP -- Pick Up Your Shoppers Tag for Bonus Discounts valid thru Sept. 30</span></span></span></span><br />\n<span style="direction:ltr\;unicode-bidi:embed\;"><span style="color:black\;"><span style="font-size:12.0pt\;"><span style="font-family:symbol\;">&middot\;</span></span></span></span>&nbsp\;<span style="font-weight:bold\;language:en-US\;"><span style="color:black\;"><span style="font-family:century gothic\;">Sidewalk &amp\; Parking Lot Sales:</span></span></span><span style="language:en-US\;"><span style="color:black\;"><span style="font-family:century gothic\;">&nbsp\;Cooper&#39\;s Office Supplies\,&nbsp\;Liberty Business Systems\, Victor Lundeen Co.\, The Market &amp\; more!</span></span></span><br />\n<span style="line-height: 20.8px\; direction: ltr\; unicode-bidi: embed\;"><span style="color: black\;"><span style="font-size: 12pt\;"><span style="font-family: symbol\;">&middot\;</span></span></span></span><span style="line-height: 20.8px\;">&nbsp\;</span><span style="line-height: 20.8px\; font-weight: bold\;"><span style="color: black\;"><span century="" style="font-family: ">S&#39\;MORE Sidewalk Sales:</span></span></span><span style="line-height: 20.8px\;"><span style="color: black\;"><span century="" style="font-family: ">&nbsp\;Calla Lily Designs (Union Ave).\, Fergus Home &amp\; Hardware (Tower Rd.) &amp\; Nature&#39\;s Garden World (Hwy. 210)</span></span></span><br />\n<span style="direction:ltr\;unicode-bidi:embed\;"><span style="color:black\;"><span style="font-size:12.0pt\;"><span style="font-family:symbol\;">&middot\;</span></span></span></span>&nbsp\;<span style="font-weight:bold\;"><span style="color:black\;"><span style="font-family:century gothic\;">In the Bag</span></span></span><span style="font-weight:bold\;language:en-US\;"><span style="color:black\;"><span style="font-family:century gothic\;"> Produce Sale </span></span></span><span style="language:en-US\;"><span style="color:black\;"><span style="font-family:century gothic\;">Service Food</span></span></span>&nbsp\; &nbsp\; &nbsp\;<br />\n<span style="color: rgb(0\, 0\, 0)\; font-family: symbol\; font-size: 16px\; line-height: 20.8px\;">&middot\;&nbsp\;</span><span style="font-weight:bold\;language:en-US\;"><span style="color:black\;"><span style="font-family:century gothic\;">Grilling Samples </span></span></span><span style="language:en-US\;"><span style="color:black\;"><span style="font-family:century gothic\;">The Market &nbsp\; &nbsp\; </span></span></span><br />\n<span style="color: rgb(0\, 0\, 0)\; font-family: symbol\; font-size: 16px\; line-height: 20.8px\;">&middot\;&nbsp\;</span><span style="language:en-US\;"><span style="color:black\;"><span style="font-family:century gothic\;"><strong>Pop\, Move &#39\;n Groove</strong> The Flower Mill&nbsp\;&nbsp\;</span></span></span><br />\n<span style="direction:ltr\;unicode-bidi:embed\;"><span style="color:black\;"><span style="font-size:12.0pt\;"><span style="font-family:symbol\;">&middot\;</span></span></span></span>&nbsp\;<span style="font-weight:bold\;language:en-US\;"><span style="color:black\;"><span style="font-family:century gothic\;">Rummage &amp\; Craft Sale</span></span></span><span style="language:en-US\;"><span style="color:black\;"><span style="font-family:century gothic\;"> A Place to Belong</span></span></span><br />\n<span style="color:#000000\;"><span style="direction:ltr\;unicode-bidi:embed\;"><span style="font-size:12.0pt\;"><span style="font-family:symbol\;">&middot\;</span></span></span>&nbsp\;<span style="font-weight:bold\;language:en-US\;"><span style="font-family:century gothic\;">Local Artists&#39\; Show &amp\; Sale</span></span><span style="font-family:century gothic\;"> Springboard for the Arts\, <span style="font-size:8.0pt\;">Featuring: Sam Norman\, Jenny Field\, Erika Smith &amp\; Kirk Williams</span></span><br />\n<span style="direction:ltr\;unicode-bidi:embed\;language:x-none\;"><span style="font-size:12.0pt\;"><span style="font-family:symbol\;">&middot\;</span></span></span>&nbsp\;<span style="font-weight:bold\;language:en-US\;"><span style="font-family:century gothic\;">StreetSide Makeovers</span></span><span style="font-family:century gothic\;"> 715 Hot Heads</span><br />\n<span style="direction:ltr\;unicode-bidi:embed\;language:x-none\;"><span style="font-size:12.0pt\;"><span style="font-family:symbol\;">&middot\;</span></span></span>&nbsp\;<span style="font-weight:bold\;language:en-US\;"><span style="font-family:century gothic\;">Glass Etching Demonstration</span></span></span><span style="language:en-US\;"><span style="font-family:century gothic\;"><span style="color:#000000\;"> Barely There Custom Etche</span>s</span></span><br />\n<span style="color: rgb(0\, 0\, 0)\; font-family: symbol\; font-size: 16px\; line-height: 20.8px\;">&middot\;&nbsp\;</span><span style="color:#000000\;"><span style="font-family:century gothic\;"><strong>Money Tree Fun</strong> Edward Jones\, Matt Hendricks</span></span><br />\n<span style="font-weight:bold\;language:en-US\;"><span style="color:#0171A9\;"><span style="font-family:century gothic\;"><span style="font-size:11.0pt\;">MOVE</span></span></span></span><br />\n<span style="color:#000000\;"><span style="direction:ltr\;unicode-bidi:embed\;"><span style="font-size:12.0pt\;"><span style="font-family:symbol\;">&middot\;</span></span></span>&nbsp\;<span style="font-weight:bold\;language:en-US\;"><span style="font-family:century gothic\;">&ldquo\;Borrow-a-Bike&rdquo\; + Safety &amp\; Maintenance Tips </span></span><span style="font-family:century gothic\;">Pedal FF (Cascade St.)</span></span><br />\n<span style="direction:ltr\;unicode-bidi:embed\;"><span style="color:black\;"><span style="font-size:12.0pt\;"><span style="font-family:symbol\;">&middot\;</span></span></span></span>&nbsp\;<span style="font-weight:bold\;language:en-US\;"><span style="color:black\;"><span style="font-family:century gothic\;">Riverside&nbsp\;Yoga </span></span></span><span style="language:en-US\;"><span style="color:black\;"><span style="font-family:century gothic\;">with LRH Health &amp\; Wellness Hub\, City Hall Park\, 5pm</span></span></span><br />\n<span style="direction:ltr\;unicode-bidi:embed\;"><span style="color:black\;"><span style="font-size:12.0pt\;"><span style="font-family:symbol\;">&middot\;</span></span></span></span>&nbsp\;<span style="font-weight:bold\;language:en-US\;"><span style="color:black\;"><span style="font-family:century gothic\;">Zumba Party </span></span></span><span style="language:en-US\;"><span style="color:black\;"><span style="font-family:century gothic\;">with LRH Health &amp\; Wellness Hub\, 4pm &amp\; 5pm</span></span></span><br />\n<span style="direction:ltr\;unicode-bidi:embed\;"><span style="color:black\;"><span style="font-size:12.0pt\;"><span style="font-family:symbol\;">&middot\;</span></span></span></span>&nbsp\;<span style="font-weight:bold\;language:en-US\;"><span style="color:black\;"><span style="font-family:century gothic\;">Family Jump Rope Contest &amp\; Lemonade Stand</span></span></span><span style="language:en-US\;"><span style="color:black\;"><span style="font-family:century gothic\;">&nbsp\;Ameriprise&nbsp\;Financial Svc</span></span></span><br />\n<span style="direction:ltr\;unicode-bidi:embed\;"><span style="color:black\;"><span style="font-size:12.0pt\;"><span style="font-family:symbol\;">&middot\;</span></span></span></span>&nbsp\;<span style="color:#000000\;"><span style="font-weight:bold\;language:en-US\;"><span style="font-family:century gothic\;">Inflatable Obstacle Course</span></span><span style="font-family:century gothic\;"> Lake Region Healthcare</span><br />\n<span style="direction:ltr\;unicode-bidi:embed\;"><span style="font-size:12.0pt\;"><span style="font-family:symbol\;">&middot\;</span></span></span>&nbsp\;<span style="font-weight:bold\;language:en-US\;"><span style="font-family:century gothic\;">Mini - Olympics</span></span><span style="font-family:century gothic\;"> Bethel Lutheran Church </span></span><br />\n<span style="direction:ltr\;unicode-bidi:embed\;"><span style="color:black\;"><span style="font-size:12.0pt\;"><span style="font-family:symbol\;">&middot\;</span></span></span></span>&nbsp\;<span style="font-weight:bold\;language:en-US\;"><span style="color:black\;"><span style="font-family:century gothic\;">Bean Bag Toss - Chance to Win a Bike</span></span></span><span style="language:en-US\;"><span style="color:black\;"><span style="font-family:century gothic\;"> Pemberton Law </span></span><span style="font-family:wingdings 2\;">&mdash\;</span></span> &nbsp\;&nbsp\;&nbsp\;&nbsp\;&nbsp\;&nbsp\;&nbsp\;&nbsp\;</div>\n\n<div class="text_exposed_root text_exposed" style="line-height: 20.8px\;"><span style="line-height: 20.8px\; direction: ltr\; unicode-bidi: embed\;"><span style="color: black\;"><span style="font-size: 12pt\;"><span style="font-family: symbol\;">&middot\;</span></span></span></span><span style="line-height: 20.8px\;">&nbsp\;</span><span style="font-weight:bold\;language:en-US\;"><span style="color:black\;"><span style="font-family:century gothic\;">Pickleball&nbsp\; </span></span></span><span style="language:en-US\;"><span style="color:black\;"><span style="font-family:century gothic\;">YMCA</span></span></span><br />\n<span style="direction:ltr\;unicode-bidi:embed\;"><span style="color:black\;"><span style="font-size:12.0pt\;"><span style="font-family:symbol\;">&middot\;</span></span></span></span>&nbsp\;<span style="color:#000000\;"><span style="font-weight:bold\;language:en-US\;"><span style="font-family:century gothic\;">Outdoor</span></span><span style="font-weight:bold\;language:en-US\;"><span style="font-family:century gothic\;"> Games </span></span><span style="font-family:century gothic\;">Friends of the Library</span><br />\n<span style="direction:ltr\;unicode-bidi:embed\;"><span style="font-size:12.0pt\;"><span style="font-family:symbol\;">&middot\;</span></span></span>&nbsp\;<span style="font-weight:bold\;language:en-US\;"><span style="font-family:century gothic\;">AFIT Challenge </span></span><span style="font-family:century gothic\;">Anytime Fitness </span>&mdash\; &nbsp\;&nbsp\;&nbsp\;&nbsp\;&nbsp\;&nbsp\;&nbsp\;&nbsp\;</span></div>\n\n<div class="text_exposed_root text_exposed" style="line-height: 20.8px\;"><span style="line-height: 20.8px\; direction: ltr\; unicode-bidi: embed\;"><span style="color: black\;"><span style="font-size: 12pt\;"><span style="font-family: symbol\;">&middot\;</span></span></span></span><span style="line-height: 20.8px\;">&nbsp\;</span><span style="color:#000000\;"><span style="font-weight:bold\;language:en-US\;"><span style="font-family:century gothic\;">Family Activity</span></span><span style="font-family:century gothic\;"> Target</span></span><br />\n<span style="direction:ltr\;unicode-bidi:embed\;"><span style="color:black\;"><span style="font-size:12.0pt\;"><span style="font-family:symbol\;">&middot\;</span></span></span></span>&nbsp\;<span style="font-weight:bold\;language:en-US\;"><span style="color:black\;"><span style="font-family:century gothic\;">Rotary Lucky Duck Derby</span></span></span><span style="language:en-US\;"><span style="color:black\;"><span style="font-family:century gothic\;"> Noon Rotary\, Otter Tail River\, 5 pm</span></span></span><br />\n<span style="direction:ltr\;unicode-bidi:embed\;"><span style="color:black\;"><span style="font-size:12.0pt\;"><span style="font-family:symbol\;">&middot\;</span></span></span></span>&nbsp\;<span style="color:#000000\;"><span style="font-weight:bold\;language:en-US\;"><span style="font-family:century gothic\;">4k &amp\; 7 Beers Ago Fun Run</span></span><span style="font-family:century gothic\;">&nbsp\;Union Pizza &amp\; Brewing Co\, 6pm</span><br />\n<span style="direction:ltr\;unicode-bidi:embed\;"><span style="font-size:12.0pt\;"><span style="font-family:symbol\;">&middot\;</span></span></span>&nbsp\;<span style="font-weight:bold\;language:en-US\;"><span style="font-family:century gothic\;">Mystery Walking Tour </span></span><span style="font-family:century gothic\;">River Inn\, Otter Tail Co. Historical Society\, 7 pm</span></span><br />\n<span style="font-weight:bold\;language:en-US\;"><span style="color:#0071AA\;"><span style="font-family:century gothic\;"><span style="font-size:11.0pt\;">GROOVE</span></span></span></span><br />\n<span style="direction:ltr\;unicode-bidi:embed\;"><span style="color:black\;"><span style="font-size:12.0pt\;"><span style="font-family:symbol\;">&middot\;</span></span></span></span>&nbsp\;<span style="color:#000000\;"><span style="font-weight:bold\;language:en-US\;"><span style="font-family:century gothic\;">Kids Dance Party </span></span><span style="font-family:century gothic\;">with&nbsp\;DJ\, Otter Tail&nbsp\;Telcom/Park Region Telephone</span><br />\n<span style="direction:ltr\;unicode-bidi:embed\;"><span style="font-size:12.0pt\;"><span style="font-family:symbol\;">&middot\;</span></span></span>&nbsp\;<span style="font-weight:bold\;language:en-US\;"><span style="font-family:century gothic\;">Kids Limbo Contest </span></span><span style="font-family:century gothic\;">Fergus Falls Spine &amp\; Injury Center</span><br />\n<span style="direction:ltr\;unicode-bidi:embed\;"><span style="font-size:12.0pt\;"><span style="font-family:symbol\;">&middot\;</span></span></span>&nbsp\;<span style="font-weight:bold\;language:en-US\;"><span style="font-family:century gothic\;">Chalk &amp\; Bubbles</span></span><span style="font-family:century gothic\;"> Fergus Falls Noon Kiwanis</span><br />\n<span style="direction:ltr\;unicode-bidi:embed\;"><span style="font-size:12.0pt\;"><span style="font-family:symbol\;">&middot\;</span></span></span>&nbsp\;<span style="font-weight:bold\;language:en-US\;"><span style="font-family:century gothic\;">Art Display &amp\; Drink Specials</span></span><span style="font-family:century gothic\;">&nbsp\;The Spot Panini &amp\; Wine</span></span><br />\n<span style="direction:ltr\;unicode-bidi:embed\;"><span style="color:black\;"><span style="font-size:12.0pt\;"><span style="font-family:symbol\;">&middot\;</span></span></span></span>&nbsp\;<span style="font-weight:bold\;language:en-US\;"><span style="color:black\;"><span style="font-family:century gothic\;">BINGO </span></span></span><span style="language:en-US\;"><span style="color:black\;"><span style="font-family:century gothic\;">Olson&rsquo\;s Furniture &amp\; Design Studio</span></span></span><br />\n<span style="direction:ltr\;unicode-bidi:embed\;"><span style="color:black\;"><span style="font-size:12.0pt\;"><span style="font-family:symbol\;">&middot\;</span></span></span></span>&nbsp\;<span style="font-weight:bold\;language:en-US\;"><span style="color:black\;"><span style="font-family:century gothic\;">Temporary Tattoos</span></span></span><span style="language:en-US\;"><span style="color:black\;"><span style="font-family:century gothic\;"> Reactor Ink</span></span></span><br />\n<span style="direction:ltr\;unicode-bidi:embed\;"><span style="color:black\;"><span style="font-size:12.0pt\;"><span style="font-family:symbol\;">&middot\;</span></span></span></span>&nbsp\;<span style="font-weight:bold\;language:en-US\;"><span style="color:black\;"><span style="font-family:century gothic\;">Sidewalk Chalk &amp\; Plein Air Demonstrations</span></span></span><span style="language:en-US\;"><span style="color:black\;"><span style="font-family:century gothic\;"> Kaddatz Galleries</span></span></span><br />\n<span style="direction:ltr\;unicode-bidi:embed\;"><span style="color:black\;"><span style="font-size:12.0pt\;"><span style="font-family:symbol\;">&middot\;</span></span></span></span>&nbsp\;<span style="font-weight:bold\;language:en-US\;"><span style="color:black\;"><span style="font-family:century gothic\;">Line Dancing\, Watermelon Eating &amp\; Seed Spitting Contests</span></span></span><span style="language:en-US\;"><span style="color:black\;"><span style="font-family:century gothic\;"> Senior Center</span></span></span><br />\n<span style="direction:ltr\;unicode-bidi:embed\;"><span style="color:black\;"><span style="font-size:12.0pt\;"><span style="font-family:symbol\;">&middot\;</span></span></span></span>&nbsp\;<span style="font-weight:bold\;language:en-US\;"><span style="color:black\;"><span style="font-family:century gothic\;">Giant Jenga &amp\; Jams</span></span></span><span style="language:en-US\;"><span style="color:black\;"><span style="font-family:century gothic\;"> Larson Insurance</span></span></span><br />\n<span style="direction:ltr\;unicode-bidi:embed\;"><span style="color:black\;"><span style="font-size:12.0pt\;"><span style="font-family:symbol\;">&middot\;</span></span></span></span>&nbsp\;<span style="font-weight:bold\;language:en-US\;"><span style="color:black\;"><span style="font-family:century gothic\;">Painting Demonstration with Ian Bell</span></span></span><span style="language:en-US\;"><span style="color:black\;"><span style="font-family:century gothic\;"> Old Crow Tattoo Co</span></span></span><br />\n<span style="direction:ltr\;unicode-bidi:embed\;"><span style="color:black\;"><span style="font-size:12.0pt\;"><span style="font-family:symbol\;">&middot\;</span></span></span></span>&nbsp\;<span style="font-weight:bold\;language:en-US\;"><span style="color:black\;"><span style="font-family:century gothic\;">Sidewalk Art with Chalk</span></span></span><span style="language:en-US\;"><span style="color:black\;"><span style="font-family:century gothic\;"> AC4TA &amp\; Fergus Falls Arts Council</span></span></span><br />\n<span style="direction:ltr\;unicode-bidi:embed\;"><span style="color:black\;"><span style="font-size:12.0pt\;"><span style="font-family:symbol\;">&middot\;</span></span></span></span>&nbsp\;<span style="color:#000000\;"><span style="font-weight:bold\;language:en-US\;"><span style="font-family:century gothic\;">Ollie the Otter </span></span><span style="font-family:century gothic\;">Otter Tail Power Co</span><br />\n<span style="direction:ltr\;unicode-bidi:embed\;"><span style="font-size:12.0pt\;"><span style="font-family:symbol\;">&middot\;</span></span></span>&nbsp\;<span style="font-weight:bold\;language:en-US\;"><span style="font-family:century gothic\;">Live Music </span></span><span style="font-family:century gothic\;">Union Pizza &amp\; Brewing Co</span><br />\n<span style="direction:ltr\;unicode-bidi:embed\;"><span style="font-size:12.0pt\;"><span style="font-family:symbol\;">&middot\;</span></span></span>&nbsp\;<span style="font-weight:bold\;language:en-US\;"><span style="font-family:century gothic\;">Leighton Broadcasting LIVE Remote</span></span><span style="font-family:century gothic\;"> 3-5pm</span></span><br />\n<span style="font-weight:bold\;language:en-US\;"><span style="color:#70B058\;"><span style="font-family:century gothic\;"><span style="font-size:14.0pt\;">&amp\; More! </span></span></span></span><br />\n<span style="font-weight:bold\;language:en-US\;"><span style="color:#045395\;"><span style="font-family:century gothic\;"><span style="font-size:16.0pt\;">Bike\, Rollerblade &amp\; Skateboard on Lincoln Ave.</span></span></span></span> <span style="font-weight:bold\;language:en-US\;"><span style="color:#70B058\;"><span style="font-family:century gothic\;"><span style="font-size:11.0pt\;">(Bring safety gear)</span></span></span></span></div>\n\n<ul>\n	<li class="text_exposed_root text_exposed" style="line-height: 20.8px\;"><strong style="color: rgb(0\, 0\, 0)\; font-size: 12px\; line-height: 1.6\;"><span style="background-color:#FFFF00\;">Please NOTE: Lincoln Avenue from Cascade to Union will be closed/no parking from </span><span style="background-color:#FFFF00\;">1-8pm</span><span style="background-color:#FFFF00\;"> on Wednesday\, July 13.</span></strong></li>\n</ul>\n<span style="font-size:12px\;"><span style="color:#000000\;"><span class="_fbReactionComponent__eventDetailsContent fsl"><strong><span style="font-size:16px\;"><a href="https://chambermaster.blob.core.windows.net/userfiles/UserFiles/chambers/314/File/ShopMoveGrooveQA.pdf">Click Here for FAQ</a> </span></strong></span></span></span><br />\n&nbsp\;</div>\n
LOCATION:Downtown Fergus Falls Primarily on Lincoln Avenue from Cascade to Union
UID:e.314.26455
SEQUENCE:3
DTSTAMP:20260425T130230Z
URL:https://business.fergusfalls.com/events/details/shop-move-n-groove-downtown-fergus-falls-07-13-2016-26455
END:VEVENT

END:VCALENDAR
