BEGIN:VCALENDAR
VERSION:2.0
PRODID:-//ChamberMaster//Event Calendar 2.0//EN
METHOD:PUBLISH
X-PUBLISHED-TTL:P3D
REFRESH-INTERVAL:P3D
CALSCALE:GREGORIAN
BEGIN:VEVENT
DTSTART;VALUE=DATE:20210722
DTEND;VALUE=DATE:20210723
TRANSP:TRANSPARENT
X-MICROSOFT-CDO-ALLDAYEVENT:TRUE
SUMMARY:SHOP MOVE 'N GROOVE - Throughout Fergus Falls
DESCRIPTION:RALLY our local restaurants\, retailers & small businesses throughout Fergus Falls!\n\nActivities include:\n\n\n	Shop-BINGO - Win Fergus Bucks\n	"Shop\, Drop 'n Win" - Win Fergus Bucks\n	Mother\, Goose 'n Beans Kettle Corn @ Park Region\, 2-8pm July 15\n	Lucky Duck Derby\, Otter Tail River\, 5pm July 15\n	Otter Cove Ribbon Cutting & Grand Opening\, 5pm July 15\n	Precious Plastics demo @ Springboard for the Arts\, 5-8pm July 15\n	Downtown Historical Walking Tour\, 7pm July 15\n	Sidewalk Sales July 15\, 16\, 17\n	Street Stock Tour @ I-94 Speedway July 16\n	World of Outlaws Races @ I-94 Speedway July 17\n	Tonic-Sol-fa Concert @ Kirkbride Park\, 6pm July 18\n	Parking Lot Picnic @ Ole & Lena's & Aflac\, 11am-2pm\, July 20\n	Outdoor Fitness Class @ Meadow Farm Foods\, 5:30pm July 20\n	West Otter Tail County Fair July 21-24\n	Blueberry Day @ Meadow Farm Foods\, July 22\n	Pebble Lake Youth Triathlon July 23\n	Brunch & Live Music on the Patio @ Fabled Farmer July 24\n	Connect4Lunch @ Fabled Farmer\, 11:30am\, July 27 \n	Neil Diamond Tribute Concert @ Kirkbride Park\, 6pm August 1\n	Watch Facebook for the "Hot Deal of the Day"\n	Selfie Scavenger Hunt - win Fergus Bucks
X-ALT-DESC;FMTTYPE=text/html:<div style="font-size: 14px\;"><span style="font-family:verdana\;"><span style="color:#000000\;"><span style="font-weight:bold\;language:en-US\;">RALLY our local restaurants\, retailers &amp\; small businesses throughout Fergus Falls!</span><br />\n<span style="text-decoration:underline\;text-underline:single\;font-weight:bold\;language:en-US\;">Activities include:</span></span></span></div>\n\n<ul>\n	<li><span style="font-family:verdana\;"><span style="color:#000000\;"><span style="font-weight:bold\;language:en-US\;">Shop-BINGO&nbsp\;</span><strong><span century="" font-size:="" font-weight:="">- Win Fergus Bucks</span></strong></span></span></li>\n	<li><span style="font-family:verdana\;"><span style="color:#000000\;"><span style="font-weight:bold\;language:en-US\;">&ldquo\;Shop\, Drop &lsquo\;n Win&rdquo\;<strong>&nbsp\;</strong></span><strong><span century="" font-size:="" font-weight:="">- Win Fergus Bucks</span></strong></span></span></li>\n	<li><span style="font-family:verdana\;"><span style="color:#000000\;"><strong><span century="" font-size:="" font-weight:="">Mother\, Goose &#39\;n Beans Kettle Corn @ Park Region\, 2-8pm July 15</span></strong></span></span></li>\n	<li><span style="font-family:verdana\;"><span style="color:#000000\;"><b>Lucky Duck Derby\, Otter Tail River\, 5pm July 15</b></span></span></li>\n	<li><span style="font-family: verdana\;"><span style="color: rgb(0\, 0\, 0)\;"><span style="font-weight: bold\;">Otter Cove Ribbon Cutting &amp\; Grand Opening\, 5pm July 15</span></span></span></li>\n	<li><span style="font-family: verdana\;"><span style="color: rgb(0\, 0\, 0)\;"><span style="font-weight: bold\;">Precious Plastics demo @ Springboard for the Arts\, 5-8pm July 15</span></span></span></li>\n	<li><span style="font-family:verdana\;"><span style="color:#000000\;"><b>Downtown Historical Walking Tour\, 7pm July 15</b></span></span></li>\n	<li><span style="font-family:verdana\;"><span style="color:#000000\;"><span style="font-weight:bold\;language:en-US\;">Sidewalk Sales July 15\, 16\, 17</span></span></span></li>\n	<li><span style="font-family:verdana\;"><span style="color:#000000\;"><span style="font-weight: bold\;"><span century="">Street Stock Tour&nbsp\;</span></span><span century="" font-size:="" font-weight:=""><strong>@ I-94 Speedway</strong>&nbsp\;</span><span style="font-weight: bold\;"><span century="">July 16</span></span></span></span></li>\n	<li><span style="font-family:verdana\;"><span style="color:#000000\;"><span style="font-weight:bold\;language:en-US\;">World of Outlaws Races </span><span century="" font-size:="" font-weight:=""><strong>@ I-94 Speedway</strong>&nbsp\;</span><span style="font-weight:bold\;language:en-US\;">July 17</span></span></span></li>\n	<li><span style="font-family:verdana\;"><span style="color:#000000\;"><span style="font-weight:bold\;language:en-US\;">Tonic-Sol-fa Concert @ Kirkbride Park\, 6pm&nbsp\;July 18</span></span></span></li>\n	<li><span style="font-family:verdana\;"><span style="color:#000000\;"><span style="font-weight:bold\;language:en-US\;">Parking Lot Picnic&nbsp\;@ Ole &amp\; Lena&#39\;s &amp\; Aflac\, 11am-2pm\, July 20</span></span></span></li>\n	<li><span style="font-family:verdana\;"><span style="color:#000000\;"><span style="font-weight:bold\;language:en-US\;">Outdoor Fitness Class @ Meadow Farm Foods\, 5:30pm&nbsp\;July 20</span></span></span></li>\n	<li><span style="font-family:verdana\;"><span style="color:#000000\;"><span style="font-weight:bold\;language:en-US\;">West Otter Tail County Fair July 21-24</span></span></span></li>\n	<li><span style="font-family:verdana\;"><span style="color:#000000\;"><span style="font-weight:bold\;language:en-US\;">Blueberry Day @ Meadow Farm Foods\, July 22</span></span></span></li>\n	<li><span style="font-family:verdana\;"><span style="color:#000000\;"><span style="font-weight: bold\;">Pebble Lake Youth Triathlon July 23</span></span></span></li>\n	<li><span style="font-family:verdana\;"><span style="color:#000000\;"><span style="font-weight:bold\;language:en-US\;">Brunch &amp\; Live Music on the Patio @ Fabled Farmer July 24</span></span></span></li>\n	<li><span style="font-family:verdana\;"><span style="color:#000000\;"><span style="font-weight:bold\;language:en-US\;">Connect4Lunch @ Fabled Farmer\, 11:30am\, July 27</span>&nbsp\;</span></span></li>\n	<li><span style="font-family:verdana\;"><span style="color:#000000\;"><span style="font-weight:bold\;language:en-US\;">Neil Diamond Tribute Concert @ Kirkbride Park\, 6pm&nbsp\;August 1</span></span></span></li>\n	<li><span style="font-family:verdana\;"><span style="color:#000000\;"><span style="font-weight: bold\;"><span century="">Watch Facebook for the &ldquo\;</span></span><span style="font-weight: bold\;"><span century="">Hot Deal of the Day&rdquo\;</span></span></span></span></li>\n	<li><span style="font-family:verdana\;"><span style="color:#000000\;"><strong>Selfie Scavenger Hunt - win Fergus Bucks</strong></span></span></li>\n</ul>\n
LOCATION:Throughout Fergus Falls
UID:e.314.62010
SEQUENCE:3
DTSTAMP:20260421T112258Z
URL:https://business.fergusfalls.com/events/details/shop-move-n-groove-throughout-fergus-falls-07-22-2021-62010
END:VEVENT

END:VCALENDAR
