BEGIN:VCALENDAR
VERSION:2.0
PRODID:-//ChamberMaster//Event Calendar 2.0//EN
METHOD:PUBLISH
X-PUBLISHED-TTL:P3D
REFRESH-INTERVAL:P3D
CALSCALE:GREGORIAN
BEGIN:VEVENT
DTSTART:20171021T150000Z
DTEND:20171021T190000Z
X-MICROSOFT-CDO-ALLDAYEVENT:FALSE
SUMMARY:Shop 'N Sip MIMI RAE'S & ADDYGRACE
DESCRIPTION:A little coffee while you shop!\n\nMIMI RAE'S AND ADDYGRACE will be joining us on our patio on Saturday\, October 21st from 10am - 2pm for a Perks Coffee & Tea fall shopping and sipping weekend. Come to our patio and check out all the fun fall items from Mimi Rae's and Addygrace.\n\n  Perks Coffee & Tea will have complementary brewed coffee and hot cider while you shop    Come join in the fun!
X-ALT-DESC;FMTTYPE=text/html:<span class="_4n-j _3cht fsl" data-testid="event-permalink-details">A little coffee while you shop!<br />\nMIMI RAE&#39\;S AND ADDYGRACE will be joining us on our patio on Saturday\, October 21st from 10am - 2pm for a Perks Coffee &amp\; Tea fall shopping and sipping weekend. Come to our patio and check out all the fun fall items from Mimi Rae&#39\;s and Addygrace.<br />\n&#9749\;&#65039\;Perks Coffee &amp\; Tea will have complementary brewed coffee and hot cider while you shop &#9749\;&#65039\; Come join in the fun!</span>
LOCATION:
UID:e.314.42864
SEQUENCE:3
DTSTAMP:20260424T092636Z
URL:https://business.fergusfalls.com/events/details/shop-n-sip-mimi-rae-s-addygrace-42864
END:VEVENT

END:VCALENDAR
