BEGIN:VCALENDAR
VERSION:2.0
PRODID:-//ChamberMaster//Event Calendar 2.0//EN
METHOD:PUBLISH
X-PUBLISHED-TTL:P3D
REFRESH-INTERVAL:P3D
CALSCALE:GREGORIAN
BEGIN:VEVENT
DTSTART:20180802T220000Z
DTEND:20180803T010000Z
X-MICROSOFT-CDO-ALLDAYEVENT:FALSE
SUMMARY:Shrimp Boil & Beer Tasting
DESCRIPTION:Dining Car #423 and Lift Bridge Brewing Co in Stillwater\, MN are putting on a evening of Food\, Fun and tasty Lift Bridge Beverages.\n\n\n\nTickets available at Dining Car #423. (Don't forget to use your $10 Downtown Chowdown coupon!)
X-ALT-DESC;FMTTYPE=text/html:<div class="_63ew" data-testid="event-permalink-details"><span>Dining Car #423 and Lift Bridge Brewing Co in Stillwater\, MN are putting on a evening of Food\, Fun and tasty Lift Bridge Beverages.<br />\n<br />\nTickets available at Dining Car #423. (Don&#39\;t forget to use your $10 Downtown Chowdown coupon!)</span></div>\n
LOCATION:Dining Car #423 423 S Cascade Street Fergus Falls
UID:e.314.50285
SEQUENCE:3
DTSTAMP:20260423T181014Z
URL:https://business.fergusfalls.com/events/details/shrimp-boil-beer-tasting-50285
END:VEVENT

END:VCALENDAR
