BEGIN:VCALENDAR
VERSION:2.0
PRODID:-//ChamberMaster//Event Calendar 2.0//EN
METHOD:PUBLISH
X-PUBLISHED-TTL:P3D
REFRESH-INTERVAL:P3D
CALSCALE:GREGORIAN
BEGIN:VEVENT
DTSTART:20160713T170000Z
DTEND:20160714T000000Z
X-MICROSOFT-CDO-ALLDAYEVENT:FALSE
SUMMARY:Sidewalk Sale - Shop\, Move 'n Groove @ Calla Lily Designs
DESCRIPTION:Sidewalk Sale on location at Calla Lily Designs studio during Shop\, Move 'n Groove\n\nRemnant Flooring: wood\, ceramic & more\n\nDisplays on Sale\n\nCabinets\, countertops\, tile\, hardwood\, vinyl plank\, carpet\n\nAccessories & Home Decor 25% OFF\n\nCash & Carry
X-ALT-DESC;FMTTYPE=text/html:Sidewalk Sale on location at Calla Lily Designs studio during Shop\, Move &#39\;n Groove<br />\nRemnant Flooring: wood\, ceramic &amp\; more<br />\nDisplays on Sale<br />\nCabinets\, countertops\, tile\, hardwood\, vinyl plank\, carpet<br />\nAccessories &amp\; Home Decor 25% OFF<br />\nCash &amp\; Carry
LOCATION:Calla Lily Designs Studio 1215 N. Union Ave. Fergus Falls\, MN
UID:e.314.32936
SEQUENCE:3
DTSTAMP:20260425T131254Z
URL:https://business.fergusfalls.com/events/details/sidewalk-sale-shop-move-n-groove-calla-lily-designs-07-13-2016-32936
END:VEVENT

END:VCALENDAR
