BEGIN:VCALENDAR
VERSION:2.0
PRODID:-//ChamberMaster//Event Calendar 2.0//EN
METHOD:PUBLISH
X-PUBLISHED-TTL:P3D
REFRESH-INTERVAL:P3D
CALSCALE:GREGORIAN
BEGIN:VEVENT
DTSTART:20171105T020000Z
DTEND:20171105T070000Z
X-MICROSOFT-CDO-ALLDAYEVENT:FALSE
SUMMARY:Sidewinder at Z103
DESCRIPTION:Sidewinder Returns to kick out the Jams Sat Nov 4th at the Z103 Bar in Fergus Falls
X-ALT-DESC;FMTTYPE=text/html:<span class="_4n-j _3cht fsl" data-testid="event-permalink-details">Sidewinder Returns to kick out the Jams Sat Nov 4th at the Z103 Bar in Fergus Falls</span>
LOCATION:Fergus Falls Z103 Bar & Grill
UID:e.314.43017
SEQUENCE:3
DTSTAMP:20260424T073724Z
URL:https://business.fergusfalls.com/events/details/sidewinder-at-z103-43017
END:VEVENT

END:VCALENDAR
