BEGIN:VCALENDAR
VERSION:2.0
PRODID:-//ChamberMaster//Event Calendar 2.0//EN
METHOD:PUBLISH
X-PUBLISHED-TTL:P3D
REFRESH-INTERVAL:P3D
CALSCALE:GREGORIAN
BEGIN:VEVENT
DTSTART:20190507T193000Z
DTEND:20190507T213000Z
X-MICROSOFT-CDO-ALLDAYEVENT:FALSE
SUMMARY:Sip & See
DESCRIPTION:Sip & See\n\nTuesday\, May 7\n\n2:30 PM to 4:30 PM\n\nPioneerCare Center and Pioneer Cottages\n\n\n\nYou're invited to attend the first ever Sip & See at PioneerCare\, a social hiring event designed to connect with all professions we hire. PioneerCare residents enjoy a happy hour during this time\, so you can socialize with them and our staff\, enjoy a glass of wine and some appetizers\, get your questions answered\, and find out if your career is waiting for you here. Feel free to bring a friend interested in healthcare or a nursing student exploring career options. All are welcome!\n\n\n\nJoin us at:\n\nPioneerCare Center\n\n1131 Mabelle Avenue S | Fergus Falls\, MN\n\n\n\nPioneer Cottages (Heartland Cottage)\n\n1315 Mabelle Avenue S | Fergus Falls\, MN
X-ALT-DESC;FMTTYPE=text/html:<span>Sip &amp\; See<br />\nTuesday\, May 7<br />\n2:30 PM to 4:30 PM<br />\nPioneerCare Center and Pioneer Cottages<br />\n<br />\nYou&#39\;re invited to attend the first ever Sip &amp\; See at PioneerCare\, a social hiring event designed to connect with all professions we hire. PioneerCare residents enjoy a happy hour during this time\, so you can socialize with them and our staff\, enjoy a glass of wine and some appetizers\, get your questions answered\, and find out if your career is waiting for you here. Feel free to bring a friend interested in healthcare or a nursing student exploring career options. All are welcome!<br />\n<br />\nJoin us at:<br />\nPioneerCare Center<br />\n1131 Mabelle Avenue S | Fergus Falls\, MN<br />\n<br />\nPioneer Cottages (Heartland Cottage)<br />\n1315 Mabelle Avenue S | Fergus Falls\, MN</span>
LOCATION:PioneerCare 1131 S Mabelle Ave\, Fergus Falls\, Minnesota 56537
UID:e.314.53902
SEQUENCE:3
DTSTAMP:20260423T050017Z
URL:https://business.fergusfalls.com/events/details/sip-see-53902
END:VEVENT

END:VCALENDAR
