BEGIN:VCALENDAR
VERSION:2.0
PRODID:-//ChamberMaster//Event Calendar 2.0//EN
METHOD:PUBLISH
X-PUBLISHED-TTL:P3D
REFRESH-INTERVAL:P3D
CALSCALE:GREGORIAN
BEGIN:VEVENT
DTSTART:20171119T030000Z
DTEND:20171119T055500Z
X-MICROSOFT-CDO-ALLDAYEVENT:FALSE
SUMMARY:Sip & Sweat - Anytime Fergus Falls
DESCRIPTION:Sip & Sweat\n\n\n\nAnytime Fitness Welcomes Members & Non Members to join us  November 18th\, 2017  for a day filled with Health\, Happiness\, & some Hoorays! We want YOU to GET TO A HEALTHIER PLACE - And we're going to SHOW YOU HOW! Come meet & hangout with the trainer! We will give you insights into our virtual fitness coaching & workout app\, have a free workout\, answer questions in a Q&A session\, & draw for some pretty AMAZING prizes (we're having A LOT of drawings). We'll provide you with everything you need so you can take notes\, stay hydrated\, & walk away with all your goodies (tools)! An added Perk\, you get all this while sipping FREE COFFEE from our friends at Perk's Coffee & Tea. (They've got some other nice stuff up their sleeve too). Even BETTER\, for every Non Member you bring - get your name entered in our prize drawings again!!! We hope to see YOU\, your friends\, & your family. And we can't wait to help YOU - get to a healthier place!
X-ALT-DESC;FMTTYPE=text/html:Sip &amp\; Sweat<br />\n<br />\n<span class="_4n-j _3cht fsl" data-testid="event-permalink-details">Anytime Fitness Welcomes Members &amp\; Non Members to join us &gt\;November 18th\, 2017&lt\; for a day filled with Health\, Happiness\, &amp\; some Hoorays! We want YOU to GET TO A HEALTHIER PLACE - And we&#39\;re going to SHOW YOU HOW! Come meet &amp\; hangout with the trainer! We will give you insights into our virtual fitness coaching &amp\; workout app\, have a free workout\, answer questions in a Q&amp\;A session\, &amp\; draw for some pretty AMAZING prizes (we&#39\;re having A LOT of drawings). We&#39\;ll provide you with everything you need so you can take notes\, stay hydrated\, &amp\; walk away with all your goodies (tools)! An added Perk\, you get all this while sipping FREE COFFEE from our friends at Perk&#39\;s Coffee &amp\; Tea. (They&#39\;ve got some other nice stuff up their sleeve too). Even BETTER\, for every Non Member you bring - get your name entered in our prize drawings again!!! We hope to see YOU\, your friends\, &amp\; your family. And we can&#39\;t wait to help YOU - get to a healthier place!</span>
LOCATION:Anytime Fergus Falls 120 W Cavour Ave
UID:e.314.43015
SEQUENCE:3
DTSTAMP:20260424T073855Z
URL:https://business.fergusfalls.com/events/details/sip-sweat-anytime-fergus-falls-43015
END:VEVENT

END:VCALENDAR
