BEGIN:VCALENDAR
VERSION:2.0
PRODID:-//ChamberMaster//Event Calendar 2.0//EN
METHOD:PUBLISH
X-PUBLISHED-TTL:P3D
REFRESH-INTERVAL:P3D
CALSCALE:GREGORIAN
BEGIN:VEVENT
DTSTART:20160503T123000Z
DTEND:20160503T140000Z
X-MICROSOFT-CDO-ALLDAYEVENT:FALSE
SUMMARY:Small Business Appreciation Breakfast 2016
DESCRIPTION:Fergus Falls Small Business Appreciation Breakfast\n\nEnjoy a continental breakfast\, network\, learn about resources to help your business succeed and hear about the journeys of locally owned small businesses.\n\nPanelists include:\n\n	Stephanie Ellingson\, owner: the bric (Fergus Falls)\, Periwinkle Marketplace (Perham)\, Paisley Lane (Ottertail) and the grain bin (Wahpeton). \n	Karla Connelly\, co-owner of M-R Sign Company\, Inc.\n	Greg and Jenny Stumbo\, owners of Stumbeano Coffee Roasters\n\n\nFree for the business community\, RSVP by Monday\, April 25 (limited seating)\n\nHosted by the Fergus Falls Area Chamber of Commerce\, Economic Improvement Commission and West Central MN Small Business Development Center.
X-ALT-DESC;FMTTYPE=text/html:<em><span style="color: rgb(0\, 0\, 255)\;"><span style="font-size: 20px\;"><span style="font-family: arial\;">Fergus Falls&nbsp\;Small Business Appreciation Breakfast</span></span></span><br />\nEnjoy a continental breakfast\, network\, learn about resources to help your business succeed and hear about the journeys of locally owned small businesses.<br />\nPanelists include:</em>\n<ul>\n	<li><em>Stephanie Ellingson\, owner: the bric (Fergus Falls)\, Periwinkle Marketplace (Perham)\, Paisley Lane (Ottertail) and the grain bin (Wahpeton).&nbsp\;</em></li>\n	<li class="txtHeading"><em>Karla Connelly\,</em> co-owner of <em>M-R Sign Company\, Inc.</em></li>\n	<li class="txtHeading"><em>Greg and Jenny Stumbo\, owners of Stumbeano Coffee Roasters</em></li>\n</ul>\n\n<div class="txtHeading"><em><span style="font-size: 14px\;">Free for the business community\, RSVP by Monday\, April 25 (limited seating)</span><br />\n<span style="color: rgb(0\, 0\, 0)\;"><span style="font-size: 12px\;">Hosted by the Fergus Falls Area Chamber of Commerce\, Economic Improvement Commission and West Central MN Small Business Development Center. </span></span></em></div>\n
LOCATION:Bigwood Event Center 925 Western Ave. Fergus Falls\, MN 56537
UID:e.314.32330
SEQUENCE:3
DTSTAMP:20260425T145310Z
URL:https://business.fergusfalls.com/events/details/small-business-appreciation-breakfast-2016-05-03-2016-32330
END:VEVENT

END:VCALENDAR
